BEGIN:VCALENDAR
VERSION:2.0
PRODID:-//ΕΚΦΕ Χανίων - ECPv6.15.20//NONSGML v1.0//EN
CALSCALE:GREGORIAN
METHOD:PUBLISH
X-ORIGINAL-URL:https://ekfechanion.eu
X-WR-CALDESC:Events for ΕΚΦΕ Χανίων
REFRESH-INTERVAL;VALUE=DURATION:PT1H
X-Robots-Tag:noindex
X-PUBLISHED-TTL:PT1H
BEGIN:VTIMEZONE
TZID:Europe/Helsinki
BEGIN:DAYLIGHT
TZOFFSETFROM:+0200
TZOFFSETTO:+0300
TZNAME:EEST
DTSTART:20250330T010000
END:DAYLIGHT
BEGIN:STANDARD
TZOFFSETFROM:+0300
TZOFFSETTO:+0200
TZNAME:EET
DTSTART:20251026T010000
END:STANDARD
BEGIN:DAYLIGHT
TZOFFSETFROM:+0200
TZOFFSETTO:+0300
TZNAME:EEST
DTSTART:20260329T010000
END:DAYLIGHT
BEGIN:STANDARD
TZOFFSETFROM:+0300
TZOFFSETTO:+0200
TZNAME:EET
DTSTART:20261025T010000
END:STANDARD
BEGIN:DAYLIGHT
TZOFFSETFROM:+0200
TZOFFSETTO:+0300
TZNAME:EEST
DTSTART:20270328T010000
END:DAYLIGHT
BEGIN:STANDARD
TZOFFSETFROM:+0300
TZOFFSETTO:+0200
TZNAME:EET
DTSTART:20271031T010000
END:STANDARD
END:VTIMEZONE
BEGIN:VEVENT
DTSTART;TZID=Europe/Helsinki:20260114T093000
DTEND;TZID=Europe/Helsinki:20260114T110000
DTSTAMP:20260423T130227
CREATED:20260112T080703Z
LAST-MODIFIED:20260112T080703Z
UID:21360-1768383000-1768388400@ekfechanion.eu
SUMMARY:Συντονιστική συνάντηση για δίκτυο σεισμογράφων
DESCRIPTION:Τηλεδιάσκεψη με Ινστιτούτο Εσωτ. Γης ΕΛΜΕΠΑ\, και συναδέλφους
URL:https://ekfechanion.eu/event/syntonistiki-synantisi-gia-diktyo-seismografon/
END:VEVENT
BEGIN:VEVENT
DTSTART;TZID=Europe/Helsinki:20260115T090000
DTEND;TZID=Europe/Helsinki:20260115T123000
DTSTAMP:20260423T130227
CREATED:20260112T081005Z
LAST-MODIFIED:20260112T081005Z
UID:21363-1768467600-1768480200@ekfechanion.eu
SUMMARY:Επίσκεψη στο 16ο Δημοτικό
DESCRIPTION:Ηλεκτρισμός – συνδεσμολογία \nΘερμότητα – Η/Μ
URL:https://ekfechanion.eu/event/episkepsi-sto-16o-dimotiko/
ORGANIZER;CN="%CE%95%CE%9A%CE%A6%CE%95 %CE%A7%CE%B1%CE%BD%CE%AF%CF%89%CE%BD":MAILTO:ekfechan@gmail.com
END:VEVENT
BEGIN:VEVENT
DTSTART;TZID=Europe/Helsinki:20260121T003000
DTEND;TZID=Europe/Helsinki:20260121T140000
DTSTAMP:20260423T130227
CREATED:20260112T075932Z
LAST-MODIFIED:20260112T082729Z
UID:21356-1768955400-1769004000@ekfechanion.eu
SUMMARY:7η Συνάντηση ΠΕ04
DESCRIPTION:Εργ. Δραστηριότητες Βιολογίας\nΜετατροπές Ενέργειας\nΝέο έτος (δραστηριότητες\, πιτα)
URL:https://ekfechanion.eu/event/7i-synantisi-pe04/
ORGANIZER;CN="%CE%95%CE%9A%CE%A6%CE%95 %CE%A7%CE%B1%CE%BD%CE%AF%CF%89%CE%BD":MAILTO:ekfechan@gmail.com
END:VEVENT
END:VCALENDAR