BEGIN:VCALENDAR
VERSION:2.0
PRODID:-//ΕΚΦΕ Χανίων - ECPv6.15.20//NONSGML v1.0//EN
CALSCALE:GREGORIAN
METHOD:PUBLISH
X-ORIGINAL-URL:https://ekfechanion.eu
X-WR-CALDESC:Events for ΕΚΦΕ Χανίων
REFRESH-INTERVAL;VALUE=DURATION:PT1H
X-Robots-Tag:noindex
X-PUBLISHED-TTL:PT1H
BEGIN:VTIMEZONE
TZID:Europe/Helsinki
BEGIN:DAYLIGHT
TZOFFSETFROM:+0200
TZOFFSETTO:+0300
TZNAME:EEST
DTSTART:20230326T010000
END:DAYLIGHT
BEGIN:STANDARD
TZOFFSETFROM:+0300
TZOFFSETTO:+0200
TZNAME:EET
DTSTART:20231029T010000
END:STANDARD
BEGIN:DAYLIGHT
TZOFFSETFROM:+0200
TZOFFSETTO:+0300
TZNAME:EEST
DTSTART:20240331T010000
END:DAYLIGHT
BEGIN:STANDARD
TZOFFSETFROM:+0300
TZOFFSETTO:+0200
TZNAME:EET
DTSTART:20241027T010000
END:STANDARD
BEGIN:DAYLIGHT
TZOFFSETFROM:+0200
TZOFFSETTO:+0300
TZNAME:EEST
DTSTART:20250330T010000
END:DAYLIGHT
BEGIN:STANDARD
TZOFFSETFROM:+0300
TZOFFSETTO:+0200
TZNAME:EET
DTSTART:20251026T010000
END:STANDARD
END:VTIMEZONE
BEGIN:VEVENT
DTSTART;TZID=Europe/Helsinki:20240513T100000
DTEND;TZID=Europe/Helsinki:20240513T140000
DTSTAMP:20260420T051226
CREATED:20240424T060000Z
LAST-MODIFIED:20240424T060033Z
UID:18009-1715594400-1715608800@ekfechanion.eu
SUMMARY:Οι Φυσικές Επιστήμες μέσα από τα μάτια των μαθητών/τριών του Γυμνασίου
DESCRIPTION:Πνευματικό Κέντρο Χανίων
URL:https://ekfechanion.eu/event/oi-fysikes-epistimes-mesa-apo-ta-matia-ton-mathiton-trion-tou-gymnasiou/
END:VEVENT
BEGIN:VEVENT
DTSTART;VALUE=DATE:20240514
DTEND;VALUE=DATE:20240515
DTSTAMP:20260420T051226
CREATED:20231110T084621Z
LAST-MODIFIED:20231110T084621Z
UID:14691-1715644800-1715731199@ekfechanion.eu
SUMMARY:8ο Δημ. Σχ. Χανίων
DESCRIPTION:Εκπαιδευτική επίσκεψη στον χώρο του ΕΚΦΕ.
URL:https://ekfechanion.eu/event/8%ce%bf-%ce%b4%ce%b7%ce%bc-%cf%83%cf%87-%cf%87%ce%b1%ce%bd%ce%af%cf%89%ce%bd/
END:VEVENT
BEGIN:VEVENT
DTSTART;VALUE=DATE:20240515
DTEND;VALUE=DATE:20240516
DTSTAMP:20260420T051226
CREATED:20231220T112659Z
LAST-MODIFIED:20231220T112659Z
UID:15588-1715731200-1715817599@ekfechanion.eu
SUMMARY:7ο Γυμνάσιο Χανίων
DESCRIPTION:Εκπαιδευτική επίσκεψη Γ’ Γυμνασίου – Χημεία (Μελέτη ιδιοτήτων οξέων\, βάσεων\, αλάτων και εξουδετέρωση) – Αριθμός μαθητών: 24
URL:https://ekfechanion.eu/event/7o-gymnasio-chanion-7/
END:VEVENT
BEGIN:VEVENT
DTSTART;VALUE=DATE:20240516
DTEND;VALUE=DATE:20240517
DTSTAMP:20260420T051226
CREATED:20231110T084725Z
LAST-MODIFIED:20231110T084725Z
UID:14693-1715817600-1715903999@ekfechanion.eu
SUMMARY:12ο Δημ. Σχ. Χανίων
DESCRIPTION:Εκπαιδευτική επίσκεψη στον χώρο του ΕΚΦΕ.
URL:https://ekfechanion.eu/event/12%ce%bf-%ce%b4%ce%b7%ce%bc-%cf%83%cf%87-%cf%87%ce%b1%ce%bd%ce%af%cf%89%ce%bd/
END:VEVENT
BEGIN:VEVENT
DTSTART;VALUE=DATE:20240517
DTEND;VALUE=DATE:20240518
DTSTAMP:20260420T051226
CREATED:20231220T112736Z
LAST-MODIFIED:20231220T112736Z
UID:15590-1715904000-1715990399@ekfechanion.eu
SUMMARY:7ο Γυμνάσιο Χανίων
DESCRIPTION:Εκπαιδευτική επίσκεψη Γ’ Γυμνασίου – Χημεία (Μελέτη ιδιοτήτων οξέων\, βάσεων\, αλάτων και εξουδετέρωση) – Αριθμός μαθητών: 21
URL:https://ekfechanion.eu/event/7o-gymnasio-chanion-8/
END:VEVENT
BEGIN:VEVENT
DTSTART;VALUE=DATE:20240521
DTEND;VALUE=DATE:20240522
DTSTAMP:20260420T051226
CREATED:20231110T084825Z
LAST-MODIFIED:20231110T084825Z
UID:14695-1716249600-1716335999@ekfechanion.eu
SUMMARY:11ο Δημ. Σχ. Χανίων
DESCRIPTION:
URL:https://ekfechanion.eu/event/11%ce%bf-%ce%b4%ce%b7%ce%bc-%cf%83%cf%87-%cf%87%ce%b1%ce%bd%ce%af%cf%89%ce%bd-4/
END:VEVENT
BEGIN:VEVENT
DTSTART;VALUE=DATE:20240523
DTEND;VALUE=DATE:20240524
DTSTAMP:20260420T051226
CREATED:20231110T084906Z
LAST-MODIFIED:20231110T084906Z
UID:14697-1716422400-1716508799@ekfechanion.eu
SUMMARY:10ο Δημ. Σχ. Χανίων
DESCRIPTION:Εκπαιδευτική επίσκεψη στον χώρο του ΕΚΦΕ.
URL:https://ekfechanion.eu/event/10%ce%bf-%ce%b4%ce%b7%ce%bc-%cf%83%cf%87-%cf%87%ce%b1%ce%bd%ce%af%cf%89%ce%bd-3/
END:VEVENT
BEGIN:VEVENT
DTSTART;VALUE=DATE:20240528
DTEND;VALUE=DATE:20240529
DTSTAMP:20260420T051226
CREATED:20231110T084948Z
LAST-MODIFIED:20240418T073421Z
UID:14699-1716854400-1716940799@ekfechanion.eu
SUMMARY:1ο Δημ. Σχ. Κισάμου
DESCRIPTION:Εκπαιδευτική επίσκεψη στον χώρο του ΕΚΦΕ.
URL:https://ekfechanion.eu/event/8o-dim-sch-chanion-2/
END:VEVENT
BEGIN:VEVENT
DTSTART;VALUE=DATE:20240530
DTEND;VALUE=DATE:20240531
DTSTAMP:20260420T051226
CREATED:20231110T085056Z
LAST-MODIFIED:20231110T085056Z
UID:14701-1717027200-1717113599@ekfechanion.eu
SUMMARY:8ο Δημ. Σχ. Χανίων
DESCRIPTION:Εκπαιδευτική επίσκεψη στον χώρο του ΕΚΦΕ.
URL:https://ekfechanion.eu/event/8%ce%bf-%ce%b4%ce%b7%ce%bc-%cf%83%cf%87-%cf%87%ce%b1%ce%bd%ce%af%cf%89%ce%bd-3/
END:VEVENT
END:VCALENDAR