BEGIN:VCALENDAR
VERSION:2.0
PRODID:-//ΕΚΦΕ Χανίων - ECPv6.15.20//NONSGML v1.0//EN
CALSCALE:GREGORIAN
METHOD:PUBLISH
X-WR-CALNAME:ΕΚΦΕ Χανίων
X-ORIGINAL-URL:https://ekfechanion.eu
X-WR-CALDESC:Events for ΕΚΦΕ Χανίων
REFRESH-INTERVAL;VALUE=DURATION:PT1H
X-Robots-Tag:noindex
X-PUBLISHED-TTL:PT1H
BEGIN:VTIMEZONE
TZID:Europe/Helsinki
BEGIN:DAYLIGHT
TZOFFSETFROM:+0200
TZOFFSETTO:+0300
TZNAME:EEST
DTSTART:20230326T010000
END:DAYLIGHT
BEGIN:STANDARD
TZOFFSETFROM:+0300
TZOFFSETTO:+0200
TZNAME:EET
DTSTART:20231029T010000
END:STANDARD
BEGIN:DAYLIGHT
TZOFFSETFROM:+0200
TZOFFSETTO:+0300
TZNAME:EEST
DTSTART:20240331T010000
END:DAYLIGHT
BEGIN:STANDARD
TZOFFSETFROM:+0300
TZOFFSETTO:+0200
TZNAME:EET
DTSTART:20241027T010000
END:STANDARD
BEGIN:DAYLIGHT
TZOFFSETFROM:+0200
TZOFFSETTO:+0300
TZNAME:EEST
DTSTART:20250330T010000
END:DAYLIGHT
BEGIN:STANDARD
TZOFFSETFROM:+0300
TZOFFSETTO:+0200
TZNAME:EET
DTSTART:20251026T010000
END:STANDARD
END:VTIMEZONE
BEGIN:VTIMEZONE
TZID:UTC
BEGIN:STANDARD
TZOFFSETFROM:+0000
TZOFFSETTO:+0000
TZNAME:UTC
DTSTART:20230101T000000
END:STANDARD
END:VTIMEZONE
BEGIN:VEVENT
DTSTART;TZID=Europe/Helsinki:20240401T130000
DTEND;TZID=Europe/Helsinki:20240401T130000
DTSTAMP:20260420T064509
CREATED:20240327T125441Z
LAST-MODIFIED:20240327T125441Z
UID:17748-1711976400-1711976400@ekfechanion.eu
SUMMARY:Συνάντηση με καθηγητές Πολυτεχνείου
DESCRIPTION:
URL:https://ekfechanion.eu/event/synantisi-me-kathigites-polytechneiou/
LOCATION:Πολυτεχνειο
END:VEVENT
BEGIN:VEVENT
DTSTART;VALUE=DATE:20240402
DTEND;VALUE=DATE:20240403
DTSTAMP:20260420T064509
CREATED:20231110T084056Z
LAST-MODIFIED:20231110T084056Z
UID:14679-1712016000-1712102399@ekfechanion.eu
SUMMARY:Δημ. Σχ. Αγροκηπίου
DESCRIPTION:Εκπαιδευτική επίσκεψη στον χώρο του ΕΚΦΕ.
URL:https://ekfechanion.eu/event/%ce%b4%ce%b7%ce%bc-%cf%83%cf%87-%ce%b1%ce%b3%cf%81%ce%bf%ce%ba%ce%b7%cf%80%ce%af%ce%bf%cf%85/
END:VEVENT
BEGIN:VEVENT
DTSTART;VALUE=DATE:20240403
DTEND;VALUE=DATE:20240404
DTSTAMP:20260420T064509
CREATED:20231113T071722Z
LAST-MODIFIED:20231113T073304Z
UID:14942-1712102400-1712188799@ekfechanion.eu
SUMMARY:Λύκειο Ιδιωτικών Εκπαιδευτηρίων Θεοδωρόπουλου
DESCRIPTION:Εκπαιδευτική επίσκεψη Α’ Λυκείου – Φυσική (Κινήσεις – Νόμοι του Νεύτωνα).
URL:https://ekfechanion.eu/event/%ce%bb%cf%8d%ce%ba%ce%b5%ce%b9%ce%bf-%ce%b9%ce%b4%ce%b9%cf%89%cf%84%ce%b9%ce%ba%cf%8e%ce%bd-%ce%b5%ce%ba%cf%80%ce%b1%ce%b9%ce%b4%ce%b5%cf%85%cf%84%ce%b7%cf%81%ce%af%cf%89%ce%bd-%ce%b8%ce%b5%ce%bf/
END:VEVENT
BEGIN:VEVENT
DTSTART;VALUE=DATE:20240404
DTEND;VALUE=DATE:20240405
DTSTAMP:20260420T064509
CREATED:20231110T084152Z
LAST-MODIFIED:20231110T084152Z
UID:14681-1712188800-1712275199@ekfechanion.eu
SUMMARY:Δημ. Σχ. Βουκολιών
DESCRIPTION:Εκπαιδευτική επίσκεψη στον χώρο του ΕΚΦΕ.
URL:https://ekfechanion.eu/event/%ce%b4%ce%b7%ce%bc-%cf%83%cf%87-%ce%b2%ce%bf%cf%85%ce%ba%ce%bf%ce%bb%ce%b9%cf%8e%ce%bd-2/
END:VEVENT
BEGIN:VEVENT
DTSTART;VALUE=DATE:20240405
DTEND;VALUE=DATE:20240406
DTSTAMP:20260420T064509
CREATED:20231213T123752Z
LAST-MODIFIED:20231213T123752Z
UID:15529-1712275200-1712361599@ekfechanion.eu
SUMMARY:Γυμνάσιο Σούδας
DESCRIPTION:Εκπαιδευτική επίσκεψη Γ’ Γυμνασίου – Φυσική (Ηλεκτρικά κυκλώματα)\, Χημεία (Εξουδετέρωση) και Βιολογία (Κύτταρο και γενετικό υλικό) – Αριθμός μαθητών: 30
URL:https://ekfechanion.eu/event/gymnasio-soudas/
END:VEVENT
BEGIN:VEVENT
DTSTART;VALUE=DATE:20240409
DTEND;VALUE=DATE:20240410
DTSTAMP:20260420T064509
CREATED:20231110T084310Z
LAST-MODIFIED:20231110T084310Z
UID:14683-1712620800-1712707199@ekfechanion.eu
SUMMARY:16ο Δημ. Σχ. Χανίων
DESCRIPTION:Εκπαιδευτική επίσκεψη στον χώρο του ΕΚΦΕ.
URL:https://ekfechanion.eu/event/16%ce%bf-%ce%b4%ce%b7%ce%bc-%cf%83%cf%87-%cf%87%ce%b1%ce%bd%ce%af%cf%89%ce%bd/
END:VEVENT
BEGIN:VEVENT
DTSTART;TZID=Europe/Helsinki:20240410T123000
DTEND;TZID=Europe/Helsinki:20240410T133000
DTSTAMP:20260420T064509
CREATED:20231108T065612Z
LAST-MODIFIED:20231108T065612Z
UID:14506-1712752200-1712755800@ekfechanion.eu
SUMMARY:Συνάντηση για το "Γιορτάζοντας τις Φυσικές Επιστήμες"
DESCRIPTION:
URL:https://ekfechanion.eu/event/%cf%83%cf%85%ce%bd%ce%ac%ce%bd%cf%84%ce%b7%cf%83%ce%b7-%ce%b3%ce%b9%ce%b1-%cf%84%ce%bf-%ce%b3%ce%b9%ce%bf%cf%81%cf%84%ce%ac%ce%b6%ce%bf%ce%bd%cf%84%ce%b1%cf%82-%cf%84%ce%b9%cf%82-%cf%86%cf%85%cf%83/
END:VEVENT
BEGIN:VEVENT
DTSTART;VALUE=DATE:20240411
DTEND;VALUE=DATE:20240412
DTSTAMP:20260420T064509
CREATED:20231110T084352Z
LAST-MODIFIED:20231110T084352Z
UID:14685-1712793600-1712879999@ekfechanion.eu
SUMMARY:Δημ. Σχ. Αγροκηπίου
DESCRIPTION:Εκπαιδευτική επίσκεψη στον χώρο του ΕΚΦΕ.
URL:https://ekfechanion.eu/event/%ce%b4%ce%b7%ce%bc-%cf%83%cf%87-%ce%b1%ce%b3%cf%81%ce%bf%ce%ba%ce%b7%cf%80%ce%af%ce%bf%cf%85-2/
END:VEVENT
BEGIN:VEVENT
DTSTART;VALUE=DATE:20240412
DTEND;VALUE=DATE:20240413
DTSTAMP:20260420T064509
CREATED:20240405T083423Z
LAST-MODIFIED:20240405T083423Z
UID:17760-1712880000-1712966399@ekfechanion.eu
SUMMARY:Βιοποικιλότητα και γεωποικιλότητα στον Σταυρό Ακρωτηρίου από το παρελθόν μέχρι σήμερα – επίδραση της κλιματικής αλλαγής
DESCRIPTION:
URL:https://ekfechanion.eu/event/viopoikilotita-kai-geopoikilotita-ston-stavro-akrotiriou-apo-to-parelthon-mechri-simera-epidrasi-tis-klimatikis-allagis/
END:VEVENT
BEGIN:VEVENT
DTSTART;VALUE=DATE:20240420
DTEND;VALUE=DATE:20240421
DTSTAMP:20260420T064509
CREATED:20231031T082032Z
LAST-MODIFIED:20231031T082032Z
UID:14212-1713571200-1713657599@ekfechanion.eu
SUMMARY:Γιορτάζοντας τις Φ.Ε. στα Χανιά
DESCRIPTION:Η ετήσια εκδήλωση που διοργανώνει το ΕΚΦΕ Χανίων για τις Φυσικές Επιστήμες
URL:https://ekfechanion.eu/event/%ce%b3%ce%b9%ce%bf%cf%81%cf%84%ce%ac%ce%b6%ce%bf%ce%bd%cf%84%ce%b1%cf%82-%cf%84%ce%b9%cf%82-%cf%86-%ce%b5-%cf%83%cf%84%ce%b1-%cf%87%ce%b1%ce%bd%ce%b9%ce%ac/
ORGANIZER;CN="%CE%95%CE%9A%CE%A6%CE%95 %CE%A7%CE%B1%CE%BD%CE%AF%CF%89%CE%BD":MAILTO:ekfechan@gmail.com
END:VEVENT
BEGIN:VEVENT
DTSTART;VALUE=DATE:20240423
DTEND;VALUE=DATE:20240424
DTSTAMP:20260420T064509
CREATED:20231110T084450Z
LAST-MODIFIED:20240418T073318Z
UID:14687-1713830400-1713916799@ekfechanion.eu
SUMMARY:8ο Δημ. Σχ. Χανίων
DESCRIPTION:Εκπαιδευτική επίσκεψη στον χώρο του ΕΚΦΕ.
URL:https://ekfechanion.eu/event/1o-dim-sch-kisamou-2/
END:VEVENT
BEGIN:VEVENT
DTSTART;VALUE=DATE:20240425
DTEND;VALUE=DATE:20240426
DTSTAMP:20260420T064509
CREATED:20231110T084529Z
LAST-MODIFIED:20231110T084529Z
UID:14689-1714003200-1714089599@ekfechanion.eu
SUMMARY:16ο Δημ. Σχ. Χανίων
DESCRIPTION:Εκπαιδευτική επίσκεψη στον χώρο του ΕΚΦΕ.
URL:https://ekfechanion.eu/event/16%ce%bf-%ce%b4%ce%b7%ce%bc-%cf%83%cf%87-%cf%87%ce%b1%ce%bd%ce%af%cf%89%ce%bd-2/
END:VEVENT
END:VCALENDAR