BEGIN:VCALENDAR
VERSION:2.0
PRODID:-//ΕΚΦΕ Χανίων - ECPv6.15.20//NONSGML v1.0//EN
CALSCALE:GREGORIAN
METHOD:PUBLISH
X-WR-CALNAME:ΕΚΦΕ Χανίων
X-ORIGINAL-URL:https://ekfechanion.eu
X-WR-CALDESC:Events for ΕΚΦΕ Χανίων
REFRESH-INTERVAL;VALUE=DURATION:PT1H
X-Robots-Tag:noindex
X-PUBLISHED-TTL:PT1H
BEGIN:VTIMEZONE
TZID:UTC
BEGIN:STANDARD
TZOFFSETFROM:+0000
TZOFFSETTO:+0000
TZNAME:UTC
DTSTART:20220101T000000
END:STANDARD
END:VTIMEZONE
BEGIN:VEVENT
DTSTART;TZID=UTC:20230918T173000
DTEND;TZID=UTC:20230918T183000
DTSTAMP:20260424T184639
CREATED:20230911T152553Z
LAST-MODIFIED:20230911T152553Z
UID:4174-1695058200-1695061800@ekfechanion.eu
SUMMARY:Ενημέρωση ESERO
DESCRIPTION:
URL:https://ekfechanion.eu/event/%ce%b5%ce%bd%ce%b7%ce%bc%ce%ad%cf%81%cf%89%cf%83%ce%b7-esero/
END:VEVENT
BEGIN:VEVENT
DTSTART;TZID=UTC:20230914T103000
DTEND;TZID=UTC:20230914T130000
DTSTAMP:20260424T184639
CREATED:20230911T152726Z
LAST-MODIFIED:20230911T152726Z
UID:4177-1694687400-1694696400@ekfechanion.eu
SUMMARY:ΓΣ ΠΑΝΕΚΦΕ
DESCRIPTION:Γενική συνέλευση της ΠΑΝΕΚΦΕ
URL:https://ekfechanion.eu/event/%ce%b3%cf%83-%cf%80%ce%b1%ce%bd%ce%b5%ce%ba%cf%86%ce%b5/
END:VEVENT
BEGIN:VEVENT
DTSTART;TZID=UTC:20230913T130000
DTEND;TZID=UTC:20230913T140000
DTSTAMP:20260424T184639
CREATED:20230911T152423Z
LAST-MODIFIED:20230911T152423Z
UID:4171-1694610000-1694613600@ekfechanion.eu
SUMMARY:Συνάντηση με διευθυντές σχολικών μονάδων
DESCRIPTION:Συνάντηση με διευθυντές σχολικών μονάδων σχετικά με τη χρήση του σχολικού εργαστηρίου ΦΕ.
URL:https://ekfechanion.eu/event/%cf%83%cf%85%ce%bd%ce%ac%ce%bd%cf%84%ce%b7%cf%83%ce%b7-%ce%bc%ce%b5-%ce%b4%ce%b9%ce%b5%cf%85%ce%b8%cf%85%ce%bd%cf%84%ce%ad%cf%82-%cf%83%cf%87%ce%bf%ce%bb%ce%b9%ce%ba%cf%8e%ce%bd-%ce%bc%ce%bf%ce%bd/
END:VEVENT
END:VCALENDAR