BEGIN:VCALENDAR
VERSION:2.0
PRODID:-//ΕΚΦΕ Χανίων - ECPv6.15.20//NONSGML v1.0//EN
CALSCALE:GREGORIAN
METHOD:PUBLISH
X-WR-CALNAME:ΕΚΦΕ Χανίων
X-ORIGINAL-URL:https://ekfechanion.eu
X-WR-CALDESC:Events for ΕΚΦΕ Χανίων
REFRESH-INTERVAL;VALUE=DURATION:PT1H
X-Robots-Tag:noindex
X-PUBLISHED-TTL:PT1H
BEGIN:VTIMEZONE
TZID:Europe/Helsinki
BEGIN:DAYLIGHT
TZOFFSETFROM:+0200
TZOFFSETTO:+0300
TZNAME:EEST
DTSTART:20220327T010000
END:DAYLIGHT
BEGIN:STANDARD
TZOFFSETFROM:+0300
TZOFFSETTO:+0200
TZNAME:EET
DTSTART:20221030T010000
END:STANDARD
BEGIN:DAYLIGHT
TZOFFSETFROM:+0200
TZOFFSETTO:+0300
TZNAME:EEST
DTSTART:20230326T010000
END:DAYLIGHT
BEGIN:STANDARD
TZOFFSETFROM:+0300
TZOFFSETTO:+0200
TZNAME:EET
DTSTART:20231029T010000
END:STANDARD
BEGIN:DAYLIGHT
TZOFFSETFROM:+0200
TZOFFSETTO:+0300
TZNAME:EEST
DTSTART:20240331T010000
END:DAYLIGHT
BEGIN:STANDARD
TZOFFSETFROM:+0300
TZOFFSETTO:+0200
TZNAME:EET
DTSTART:20241027T010000
END:STANDARD
BEGIN:DAYLIGHT
TZOFFSETFROM:+0200
TZOFFSETTO:+0300
TZNAME:EEST
DTSTART:20250330T010000
END:DAYLIGHT
BEGIN:STANDARD
TZOFFSETFROM:+0300
TZOFFSETTO:+0200
TZNAME:EET
DTSTART:20251026T010000
END:STANDARD
END:VTIMEZONE
BEGIN:VTIMEZONE
TZID:UTC
BEGIN:STANDARD
TZOFFSETFROM:+0000
TZOFFSETTO:+0000
TZNAME:UTC
DTSTART:20220101T000000
END:STANDARD
END:VTIMEZONE
BEGIN:VEVENT
DTSTART;TZID=Europe/Helsinki:20240117T123000
DTEND;TZID=Europe/Helsinki:20240117T143000
DTSTAMP:20260423T224142
CREATED:20231108T064303Z
LAST-MODIFIED:20231108T064303Z
UID:14493-1705494600-1705501800@ekfechanion.eu
SUMMARY:Συνάντηση ΠΕ04 Γυμνασίου
DESCRIPTION:
URL:https://ekfechanion.eu/event/%cf%83%cf%85%ce%bd%ce%ac%ce%bd%cf%84%ce%b7%cf%83%ce%b7-%cf%80%ce%b504-%ce%b3%cf%85%ce%bc%ce%bd%ce%b1%cf%83%ce%af%ce%bf%cf%85/
END:VEVENT
BEGIN:VEVENT
DTSTART;VALUE=DATE:20240116
DTEND;VALUE=DATE:20240117
DTSTAMP:20260423T224142
CREATED:20231110T080749Z
LAST-MODIFIED:20231110T080749Z
UID:14641-1705363200-1705449599@ekfechanion.eu
SUMMARY:Δημ. Σχ. Χωραφακίων
DESCRIPTION:Εκπαιδευτική επίσκεψη στον χώρο του ΕΚΦΕ.
URL:https://ekfechanion.eu/event/%ce%b4%ce%b7%ce%bc-%cf%83%cf%87-%cf%87%cf%89%cf%81%ce%b1%cf%86%ce%b1%ce%ba%ce%af%cf%89%ce%bd/
END:VEVENT
BEGIN:VEVENT
DTSTART;VALUE=DATE:20240112
DTEND;VALUE=DATE:20240113
DTSTAMP:20260423T224142
CREATED:20231116T100334Z
LAST-MODIFIED:20231116T100709Z
UID:15234-1705017600-1705103999@ekfechanion.eu
SUMMARY:1ο Γυμνάσιο Ελευθερίου Βενιζέλου
DESCRIPTION:Εκπαιδευτική επίσκεψη Γ’ Γυμνασίου – Φυσική (Ηλεκτρισμός) και Βιολογία (DNA Extraction).
URL:https://ekfechanion.eu/event/1o-gymnasio-eleftheriou-venizelou/
END:VEVENT
BEGIN:VEVENT
DTSTART;VALUE=DATE:20240111
DTEND;VALUE=DATE:20240112
DTSTAMP:20260423T224142
CREATED:20231110T080712Z
LAST-MODIFIED:20231110T080712Z
UID:14639-1704931200-1705017599@ekfechanion.eu
SUMMARY:Δημ. Σχ. Δραπανιά
DESCRIPTION:Εκπαιδευτική επίσκεψη στον χώρο του ΕΚΦΕ.
URL:https://ekfechanion.eu/event/%ce%b4%ce%b7%ce%bc-%cf%83%cf%87-%ce%b4%cf%81%ce%b1%cf%80%ce%b1%ce%bd%ce%b9%ce%ac/
END:VEVENT
BEGIN:VEVENT
DTSTART;VALUE=DATE:20240110
DTEND;VALUE=DATE:20240111
DTSTAMP:20260423T224142
CREATED:20231116T114745Z
LAST-MODIFIED:20231116T114745Z
UID:15240-1704844800-1704931199@ekfechanion.eu
SUMMARY:Μουσικό Γυμνασίου
DESCRIPTION:Εκπαιδευτική επίσκεψη Γ’ Γυμνασίου – Φυσική (Ηλεκτρισμός) και Βιολογία (DNA).
URL:https://ekfechanion.eu/event/mousiko-gymnasiou/
END:VEVENT
BEGIN:VEVENT
DTSTART;VALUE=DATE:20240109
DTEND;VALUE=DATE:20240110
DTSTAMP:20260423T224142
CREATED:20231110T080639Z
LAST-MODIFIED:20231125T161133Z
UID:14637-1704758400-1704844799@ekfechanion.eu
SUMMARY:3ο Δημ. Σχ. Χανίων
DESCRIPTION:Εκπαιδευτική επίσκεψη στον χώρο του ΕΚΦΕ.
URL:https://ekfechanion.eu/event/14o-dim-sch-chanion/
END:VEVENT
BEGIN:VEVENT
DTSTART;VALUE=DATE:20231221
DTEND;VALUE=DATE:20231222
DTSTAMP:20260423T224142
CREATED:20231110T080549Z
LAST-MODIFIED:20231110T080549Z
UID:14635-1703116800-1703203199@ekfechanion.eu
SUMMARY:Δημ. Σχ. Βουκολιών
DESCRIPTION:Εκπαιδευτική επίσκεψη στον χώρο του ΕΚΦΕ.
URL:https://ekfechanion.eu/event/%ce%b4%ce%b7%ce%bc-%cf%83%cf%87-%ce%b2%ce%bf%cf%85%ce%ba%ce%bf%ce%bb%ce%b9%cf%8e%ce%bd/
END:VEVENT
BEGIN:VEVENT
DTSTART;TZID=UTC:20231220T123000
DTEND;TZID=UTC:20231220T140000
DTSTAMP:20260423T224142
CREATED:20230928T083809Z
LAST-MODIFIED:20230928T083809Z
UID:7348-1703075400-1703080800@ekfechanion.eu
SUMMARY:Συνάντηση ΠΕ04
DESCRIPTION:Λειτουργία εργαστηριακών συσκευών (π.χ φωτοηλεκτρικό\, μικροσκόπια\, hoffman κ.α.)
URL:https://ekfechanion.eu/event/%cf%83%cf%85%ce%bd%ce%ac%ce%bd%cf%84%ce%b7%cf%83%ce%b7-%cf%80%ce%b504-3/
LOCATION:ΕΚΦΕ Χανίων\, EKFE Chania\, Chania\, Crete\, 73100\, Ελλάδα
ORGANIZER;CN="%CE%95%CE%9A%CE%A6%CE%95 %CE%A7%CE%B1%CE%BD%CE%AF%CF%89%CE%BD":MAILTO:ekfechan@gmail.com
END:VEVENT
BEGIN:VEVENT
DTSTART;VALUE=DATE:20231219
DTEND;VALUE=DATE:20231220
DTSTAMP:20260423T224142
CREATED:20231110T080514Z
LAST-MODIFIED:20231110T080514Z
UID:14633-1702944000-1703030399@ekfechanion.eu
SUMMARY:5ο Δημ. Σχ. Χανίων
DESCRIPTION:Εκπαιδευτική επίσκεψη στον χώρο του ΕΚΦΕ.
URL:https://ekfechanion.eu/event/5%ce%bf-%ce%b4%ce%b7%ce%bc-%cf%83%cf%87-%cf%87%ce%b1%ce%bd%ce%af%cf%89%ce%bd/
END:VEVENT
BEGIN:VEVENT
DTSTART;VALUE=DATE:20231215
DTEND;VALUE=DATE:20231216
DTSTAMP:20260423T224142
CREATED:20231110T094448Z
LAST-MODIFIED:20231113T073001Z
UID:14732-1702598400-1702684799@ekfechanion.eu
SUMMARY:1ο Γυμνάσιο Ελευθερίου Βενιζέλου
DESCRIPTION:Εκπαιδευτική επίσκεψη Γ’ Γυμνασίου – Φυσική (Ηλεκτρισμός) και Βιολογία (DNA).
URL:https://ekfechanion.eu/event/1%ce%bf-%ce%b3%cf%85%ce%bc%ce%bd%ce%ac%cf%83%ce%b9%ce%bf-%ce%b5%cf%85%ce%b8%ce%b5%cf%81%ce%af%ce%bf%cf%85-%ce%b2%ce%b5%ce%bd%ce%b9%ce%b6%ce%ad%ce%bb%ce%bf%cf%85/
END:VEVENT
BEGIN:VEVENT
DTSTART;VALUE=DATE:20231214
DTEND;VALUE=DATE:20231215
DTSTAMP:20260423T224142
CREATED:20231110T090535Z
LAST-MODIFIED:20231110T090535Z
UID:14703-1702512000-1702598399@ekfechanion.eu
SUMMARY:11ο Δημ. Σχ. Χανίων
DESCRIPTION:Εκπαιδευτική επίσκεψη στον χώρο του ΕΚΦΕ.
URL:https://ekfechanion.eu/event/11%ce%bf-%ce%b4%ce%b7%ce%bc-%cf%83%cf%87-%cf%87%ce%b1%ce%bd%ce%af%cf%89%ce%bd-5/
END:VEVENT
BEGIN:VEVENT
DTSTART;VALUE=DATE:20231213
DTEND;VALUE=DATE:20231214
DTSTAMP:20260423T224142
CREATED:20231110T094402Z
LAST-MODIFIED:20231113T073041Z
UID:14730-1702425600-1702511999@ekfechanion.eu
SUMMARY:1ο Γυμνάσιο Ελευθερίου Βενιζέλου
DESCRIPTION:Εκπαιδευτική επίσκεψη Γ’ Γυμνασίου – Φυσική (Ηλεκτρισμός) και Βιολογία (DNA).
URL:https://ekfechanion.eu/event/1%ce%bf-%ce%b3%cf%85%ce%bc%ce%bd%ce%ac%cf%83%ce%b9%ce%bf-%ce%b5%ce%bb%ce%b5%cf%85%ce%b8%ce%b5%cf%81%ce%af%ce%bf%cf%85-%ce%b2%ce%b5%ce%bd%ce%b9%ce%b6%ce%ad%ce%bb%ce%bf%cf%85/
END:VEVENT
BEGIN:VEVENT
DTSTART;VALUE=DATE:20231212
DTEND;VALUE=DATE:20231213
DTSTAMP:20260423T224142
CREATED:20231110T080409Z
LAST-MODIFIED:20231110T080409Z
UID:14629-1702339200-1702425599@ekfechanion.eu
SUMMARY:11ο Δημ. Σχ. Χανίων
DESCRIPTION:Εκπαιδευτική επίσκεψη στον χώρο του ΕΚΦΕ.
URL:https://ekfechanion.eu/event/11%ce%bf-%ce%b4%ce%b7%ce%bc-%cf%83%cf%87-%cf%87%ce%b1%ce%bd%ce%af%cf%89%ce%bd/
END:VEVENT
BEGIN:VEVENT
DTSTART;VALUE=DATE:20231209
DTEND;VALUE=DATE:20231210
DTSTAMP:20260423T224142
CREATED:20231108T064109Z
LAST-MODIFIED:20231108T064109Z
UID:14491-1702080000-1702166399@ekfechanion.eu
SUMMARY:EOES - Τοπικός διαγωνισμός
DESCRIPTION:
URL:https://ekfechanion.eu/event/eoes-%cf%84%ce%bf%cf%80%ce%b9%ce%ba%cf%8c%cf%82-%ce%b4%ce%b9%ce%b1%ce%b3%cf%89%ce%bd%ce%b9%cf%83%ce%bc%cf%8c%cf%82/
END:VEVENT
BEGIN:VEVENT
DTSTART;VALUE=DATE:20231205
DTEND;VALUE=DATE:20231206
DTSTAMP:20260423T224142
CREATED:20231110T114232Z
LAST-MODIFIED:20231204T153045Z
UID:14792-1701734400-1701820799@ekfechanion.eu
SUMMARY:Επίσκεψη στο 1ο Δημ. Σχ. Μουρνιών
DESCRIPTION:Οργάνωση εργαστηρίου Φυσικών Επιστημών.
URL:https://ekfechanion.eu/event/episkepsi-sto-10-dim-sch-mournion/
END:VEVENT
BEGIN:VEVENT
DTSTART;VALUE=DATE:20231204
DTEND;VALUE=DATE:20231205
DTSTAMP:20260423T224142
CREATED:20231110T114154Z
LAST-MODIFIED:20231110T114154Z
UID:14790-1701648000-1701734399@ekfechanion.eu
SUMMARY:Επίσκεψη στο Δημ. Σχ. Βάμου
DESCRIPTION:Οργάνωση εργαστηρίου Φυσικών Επιστημών.
URL:https://ekfechanion.eu/event/%ce%b5%cf%80%ce%af%cf%83%ce%ba%ce%b5%cf%88%ce%b7-%cf%83%cf%84%ce%bf-%ce%b4%ce%b7%ce%bc-%cf%83%cf%87-%ce%b2%ce%ac%ce%bc%ce%bf%cf%85/
END:VEVENT
BEGIN:VEVENT
DTSTART;VALUE=DATE:20231201
DTEND;VALUE=DATE:20231202
DTSTAMP:20260423T224142
CREATED:20231016T083834Z
LAST-MODIFIED:20231027T041927Z
UID:11404-1701388800-1701475199@ekfechanion.eu
SUMMARY:Επίσκεψη στο Δημ. Σχ. Τσικαλαριών
DESCRIPTION:Εκπαιδευτική επίσκεψη στα πλαίσια του Erasmus που τρέχει το σχολείο.
URL:https://ekfechanion.eu/event/%ce%b5%cf%80%ce%af%cf%83%ce%ba%ce%b5%cf%88%ce%b7-%cf%83%cf%84%ce%bf-%ce%b4%ce%b7%ce%bc-%cf%83%cf%87-%cf%84%cf%83%ce%b9%ce%ba%ce%b1%ce%bb%ce%b1%cf%81%ce%b9%cf%8e%ce%bd/
END:VEVENT
BEGIN:VEVENT
DTSTART;VALUE=DATE:20231130
DTEND;VALUE=DATE:20231201
DTSTAMP:20260423T224142
CREATED:20231110T080315Z
LAST-MODIFIED:20231110T080315Z
UID:14627-1701302400-1701388799@ekfechanion.eu
SUMMARY:1ο Δημ. Σχ. Νέας Κυδωνίας
DESCRIPTION:Εκπαιδευτική επίσκεψη στον χώρο του ΕΚΦΕ.
URL:https://ekfechanion.eu/event/1%ce%bf-%ce%b4%ce%b7%ce%bc-%cf%83%cf%87-%ce%bd%ce%ad%ce%b1%cf%82-%ce%ba%cf%85%ce%b4%cf%89%ce%bd%ce%af%ce%b1%cf%82/
END:VEVENT
BEGIN:VEVENT
DTSTART;TZID=UTC:20231129T123000
DTEND;TZID=UTC:20231129T140000
DTSTAMP:20260423T224142
CREATED:20230928T083609Z
LAST-MODIFIED:20230928T083609Z
UID:7346-1701261000-1701266400@ekfechanion.eu
SUMMARY:Συνάντηση ΠΕ04 Λυκείου
DESCRIPTION:Διερευνητική μέθοδος στη διδασκαλία των Φ.Ε: Παραδείγματα εφαρμογής.\nΕκτέλεση συγκεκριμένων εργαστηριακών δραστηριοτήτων στην τρέχουσα ύλη\, (Φυσικής\, Χημείας\, Βιολογίας) από τους συμμετέχοντες\nΕνημέρωση σχετικά με το διεθνή διαγωνισμό μαθητικό διαγωνισμό πειραμάτων EOES\, που διοργανώνει τοπικά το ΕΚΦΕ Χανίων.
URL:https://ekfechanion.eu/event/%cf%83%cf%85%ce%bd%ce%ac%ce%bd%cf%84%ce%b7%cf%83%ce%b7-%cf%80%ce%b504-%ce%bb%cf%85%ce%ba%ce%b5%ce%af%ce%bf%cf%85/
LOCATION:ΕΚΦΕ Χανίων\, EKFE Chania\, Chania\, Crete\, 73100\, Ελλάδα
ORGANIZER;CN="%CE%95%CE%9A%CE%A6%CE%95 %CE%A7%CE%B1%CE%BD%CE%AF%CF%89%CE%BD":MAILTO:ekfechan@gmail.com
END:VEVENT
BEGIN:VEVENT
DTSTART;VALUE=DATE:20231128
DTEND;VALUE=DATE:20231129
DTSTAMP:20260423T224142
CREATED:20231110T080233Z
LAST-MODIFIED:20231110T080233Z
UID:14625-1701129600-1701215999@ekfechanion.eu
SUMMARY:6ο Δημ. Σχ. Χανίων
DESCRIPTION:Εκπαιδευτική επίσκεψη στον χώρο του ΕΚΦΕ.
URL:https://ekfechanion.eu/event/6%ce%bf-%ce%b4%ce%b7%ce%bc-%cf%83%cf%87-%cf%87%ce%b1%ce%bd%ce%af%cf%89%ce%bd/
END:VEVENT
BEGIN:VEVENT
DTSTART;VALUE=DATE:20231124
DTEND;VALUE=DATE:20231125
DTSTAMP:20260423T224142
CREATED:20231021T093125Z
LAST-MODIFIED:20231021T093125Z
UID:13927-1700784000-1700870399@ekfechanion.eu
SUMMARY:Επίσκεψη στο Δημ. Σχ. Ροδοβανίου
DESCRIPTION:Εκπαιδευτική επίσκεψη για την Ε’ και Στ’ τάξη στο Δημ. Σχ. Ροδοβανίου.
URL:https://ekfechanion.eu/event/%ce%b5%cf%80%ce%af%cf%83%ce%ba%ce%b5%cf%88%ce%b7-%cf%83%cf%84%ce%bf-%ce%b4%ce%b7%ce%bc-%cf%83%cf%87-%cf%81%ce%bf%ce%b4%ce%bf%ce%b2%ce%b1%ce%bd%ce%af%ce%bf%cf%85/
END:VEVENT
BEGIN:VEVENT
DTSTART;VALUE=DATE:20231122
DTEND;VALUE=DATE:20231123
DTSTAMP:20260423T224142
CREATED:20231110T094256Z
LAST-MODIFIED:20231113T073501Z
UID:14727-1700611200-1700697599@ekfechanion.eu
SUMMARY:Γυμνάσιο Κολυμβαρίου
DESCRIPTION:Εκπαιδευτική επίσκεψη Α’ Γυμνασίου – Χημεία (Οξέα – Βάσεις) και Βιολογία (Μικροσκόπηση κυττάρου).
URL:https://ekfechanion.eu/event/%ce%b3%cf%85%ce%bc%ce%bd%ce%ac%cf%83%ce%b9%ce%bf-%ce%ba%ce%bf%ce%bb%cf%85%ce%bc%ce%b2%ce%b1%cf%81%ce%af%ce%bf%cf%85/
END:VEVENT
BEGIN:VEVENT
DTSTART;VALUE=DATE:20231122
DTEND;VALUE=DATE:20231123
DTSTAMP:20260423T224142
CREATED:20231004T113134Z
LAST-MODIFIED:20231004T113134Z
UID:8902-1700611200-1700697599@ekfechanion.eu
SUMMARY:Επίσκεψη στο 5ο Νηπ/γείο Νέας Κυδωνίας
DESCRIPTION:Εισαγωγή των μαθητών στον μαγνητισμό.
URL:https://ekfechanion.eu/event/%ce%b5%cf%80%ce%af%cf%83%ce%ba%ce%b5%cf%88%ce%b7-%cf%83%cf%84%ce%bf-5%ce%bf-%ce%bd%ce%b7%cf%80-%ce%b3%ce%b5%ce%af%ce%bf-%ce%bd%ce%ad%ce%b1%cf%82-%ce%ba%cf%85%ce%b4%cf%89%ce%bd%ce%af%ce%b1%cf%82/
END:VEVENT
BEGIN:VEVENT
DTSTART;VALUE=DATE:20231116
DTEND;VALUE=DATE:20231117
DTSTAMP:20260423T224142
CREATED:20231010T141408Z
LAST-MODIFIED:20231010T141408Z
UID:10504-1700092800-1700179199@ekfechanion.eu
SUMMARY:Επίσκεψη στο 13ο Δημ. Σχ. Χανίων
DESCRIPTION:Οργάνωση εργαστηρίου Φυσικών Επιστημών.
URL:https://ekfechanion.eu/event/%ce%b5%cf%80%ce%af%cf%83%ce%ba%ce%b5%cf%88%ce%b7-%cf%83%cf%84%ce%bf-13%ce%bf-%ce%b4%ce%b7%ce%bc-%cf%83%cf%87-%cf%87%ce%b1%ce%bd%ce%af%cf%89%ce%bd/
END:VEVENT
BEGIN:VEVENT
DTSTART;VALUE=DATE:20231115
DTEND;VALUE=DATE:20231116
DTSTAMP:20260423T224142
CREATED:20231102T125045Z
LAST-MODIFIED:20231114T194256Z
UID:14252-1700006400-1700092799@ekfechanion.eu
SUMMARY:Επιμόρφωση STEAM
DESCRIPTION:Η σύμβουλος εκπαίδευσης κα Ανδρεάδου Χαρά σε συνεργασία με το ΕΚΦΕ Χανίων και το ΥΠΛΗΝΕΤ διοργανώνει επιμορφωτική ημερίδα για τους εκπαιδευτικούς του Δημ. Σχ. Τσικαλαριών με θέμα την εφαρμογή STEAM διδακτικών σεναρίων σε μαθητές δημοτικού.
URL:https://ekfechanion.eu/event/epimorfosi-steam/
END:VEVENT
BEGIN:VEVENT
DTSTART;VALUE=DATE:20231114
DTEND;VALUE=DATE:20231115
DTSTAMP:20260423T224142
CREATED:20231010T141149Z
LAST-MODIFIED:20231010T141246Z
UID:10501-1699920000-1700006399@ekfechanion.eu
SUMMARY:Επίσκεψη στο Δημ. Σχ. Βουβά
DESCRIPTION:Εκπαιδευτική επίσκεψη για την Ε’ και Στ’ τάξη στο Δημ. Σχ. Βουβά στην οποία θα παρευρίσκονται μαθητές και από τα Δημ. Σχ. Ανώπολής και Χώρας Σφακίων.
URL:https://ekfechanion.eu/event/%ce%b5%cf%80%ce%af%cf%83%ce%ba%ce%b5%cf%88%ce%b7-%cf%83%cf%84%ce%bf-%ce%b4%ce%b7%ce%bc-%cf%83%cf%87-%ce%b2%ce%bf%cf%85%ce%b2%ce%ac/
END:VEVENT
BEGIN:VEVENT
DTSTART;TZID=Europe/Helsinki:20231110T080000
DTEND;TZID=Europe/Helsinki:20231110T170000
DTSTAMP:20260423T224142
CREATED:20231110T080442Z
LAST-MODIFIED:20231110T080442Z
UID:14631-1699603200-1699635600@ekfechanion.eu
SUMMARY:11ο Δημ. Σχ. Χανίων
DESCRIPTION:Εκπαιδευτική επίσκεψη στον χώρο του ΕΚΦΕ.
URL:https://ekfechanion.eu/event/11%ce%bf-%ce%b4%ce%b7%ce%bc-%cf%83%cf%87-%cf%87%ce%b1%ce%bd%ce%af%cf%89%ce%bd-2/
END:VEVENT
BEGIN:VEVENT
DTSTART;VALUE=DATE:20231109
DTEND;VALUE=DATE:20231110
DTSTAMP:20260423T224142
CREATED:20231010T140820Z
LAST-MODIFIED:20231010T140820Z
UID:10499-1699488000-1699574399@ekfechanion.eu
SUMMARY:Δημ. Σχ. Χρυσοπηγής
DESCRIPTION:Οργάνωση εργαστηρίου Φυσικών Επιστημών.
URL:https://ekfechanion.eu/event/%ce%b4%ce%b7%ce%bc-%cf%83%cf%87-%cf%87%cf%81%cf%85%cf%83%ce%bf%cf%80%ce%b7%ce%b3%ce%ae%cf%82/
END:VEVENT
BEGIN:VEVENT
DTSTART;TZID=UTC:20231108T123000
DTEND;TZID=UTC:20231108T140000
DTSTAMP:20260423T224142
CREATED:20230928T083421Z
LAST-MODIFIED:20230928T083851Z
UID:7344-1699446600-1699452000@ekfechanion.eu
SUMMARY:Συνάντηση ΠΕ04 Γυμνασίου
DESCRIPTION:ΠΕ04 Γυμνασίου\n\nΔιερευνητική μέθοδος στη διδασκαλία των Φ.Ε: Παραδείγματα εφαρμογής.\nΕκτέλεση συγκεκριμένων εργαστηριακών δραστηριοτήτων στην τρέχουσα ύλη\, (Φυσικής\, Χημείας\, Βιολογίας) από τους συμμετέχοντες
URL:https://ekfechanion.eu/event/%cf%83%cf%85%ce%bd%ce%ac%ce%bd%cf%84%ce%b7%cf%83%ce%b7-%cf%80%ce%b504-2/
LOCATION:ΕΚΦΕ Χανίων\, EKFE Chania\, Chania\, Crete\, 73100\, Ελλάδα
ORGANIZER;CN="%CE%95%CE%9A%CE%A6%CE%95 %CE%A7%CE%B1%CE%BD%CE%AF%CF%89%CE%BD":MAILTO:ekfechan@gmail.com
END:VEVENT
BEGIN:VEVENT
DTSTART;VALUE=DATE:20231108
DTEND;VALUE=DATE:20231109
DTSTAMP:20260423T224142
CREATED:20231011T122443Z
LAST-MODIFIED:20231011T122443Z
UID:10865-1699401600-1699487999@ekfechanion.eu
SUMMARY:Επίσκεψη στο 16ο Δημ. Σχ. Χανίων
DESCRIPTION:Οργάνωση εργαστηρίου Φυσικών Επιστημών.
URL:https://ekfechanion.eu/event/%ce%b5%cf%80%ce%af%cf%83%ce%ba%ce%b5%cf%88%ce%b7-%cf%83%cf%84%ce%bf-16%ce%bf-%ce%b4%ce%b7%ce%bc-%cf%83%cf%87-%cf%87%ce%b1%ce%bd%ce%af%cf%89%ce%bd/
END:VEVENT
END:VCALENDAR