BEGIN:VCALENDAR
VERSION:2.0
PRODID:-//ΕΚΦΕ Χανίων - ECPv6.15.20//NONSGML v1.0//EN
CALSCALE:GREGORIAN
METHOD:PUBLISH
X-ORIGINAL-URL:https://ekfechanion.eu
X-WR-CALDESC:Events for ΕΚΦΕ Χανίων
REFRESH-INTERVAL;VALUE=DURATION:PT1H
X-Robots-Tag:noindex
X-PUBLISHED-TTL:PT1H
BEGIN:VTIMEZONE
TZID:Europe/Helsinki
BEGIN:DAYLIGHT
TZOFFSETFROM:+0200
TZOFFSETTO:+0300
TZNAME:EEST
DTSTART:20240331T010000
END:DAYLIGHT
BEGIN:STANDARD
TZOFFSETFROM:+0300
TZOFFSETTO:+0200
TZNAME:EET
DTSTART:20241027T010000
END:STANDARD
BEGIN:DAYLIGHT
TZOFFSETFROM:+0200
TZOFFSETTO:+0300
TZNAME:EEST
DTSTART:20250330T010000
END:DAYLIGHT
BEGIN:STANDARD
TZOFFSETFROM:+0300
TZOFFSETTO:+0200
TZNAME:EET
DTSTART:20251026T010000
END:STANDARD
BEGIN:DAYLIGHT
TZOFFSETFROM:+0200
TZOFFSETTO:+0300
TZNAME:EEST
DTSTART:20260329T010000
END:DAYLIGHT
BEGIN:STANDARD
TZOFFSETFROM:+0300
TZOFFSETTO:+0200
TZNAME:EET
DTSTART:20261025T010000
END:STANDARD
BEGIN:DAYLIGHT
TZOFFSETFROM:+0200
TZOFFSETTO:+0300
TZNAME:EEST
DTSTART:20270328T010000
END:DAYLIGHT
BEGIN:STANDARD
TZOFFSETFROM:+0300
TZOFFSETTO:+0200
TZNAME:EET
DTSTART:20271031T010000
END:STANDARD
END:VTIMEZONE
BEGIN:VEVENT
DTSTART;TZID=Europe/Helsinki:20251111T090000
DTEND;TZID=Europe/Helsinki:20251111T113000
DTSTAMP:20260422T120922
CREATED:20251030T080025Z
LAST-MODIFIED:20251030T080328Z
UID:20735-1762851600-1762860600@ekfechanion.eu
SUMMARY:Επίσκεψη ΕΠΑΛ
DESCRIPTION:2 Τμήματα \nΕνεργειακές μετατροπες \nΜακέτα 3D
URL:https://ekfechanion.eu/event/episkepsi-epal-4/
END:VEVENT
BEGIN:VEVENT
DTSTART;TZID=Europe/Helsinki:20251111T090000
DTEND;TZID=Europe/Helsinki:20251111T113000
DTSTAMP:20260422T120922
CREATED:20251030T083002Z
LAST-MODIFIED:20251030T075834Z
UID:20730-1762851600-1762860600@ekfechanion.eu
SUMMARY:Επισκεψη στο 2ο ΔΣ Κουνουπιδιανών
DESCRIPTION:2 Τμήματα \nΕνεργειακές μετατροπές \nκατασκευή μακέτας 3D
URL:https://ekfechanion.eu/event/episkepsi-sto-2o-ds-scholeio-kounoupidianon/
END:VEVENT
BEGIN:VEVENT
DTSTART;TZID=Europe/Helsinki:20251114T090000
DTEND;TZID=Europe/Helsinki:20251114T113000
DTSTAMP:20260422T120922
CREATED:20251107T070003Z
LAST-MODIFIED:20251119T083826Z
UID:20727-1763110800-1763119800@ekfechanion.eu
SUMMARY:Επίσκεψη ΕΠΑΛ
DESCRIPTION:2 Τμήματα: \nΕνεργειακές μετατροπές\, \nκατασκευή μακέτας 3D
URL:https://ekfechanion.eu/event/episkepsi-epal-3/
ORGANIZER;CN="%CE%95%CE%9A%CE%A6%CE%95 %CE%A7%CE%B1%CE%BD%CE%AF%CF%89%CE%BD":MAILTO:ekfechan@gmail.com
END:VEVENT
BEGIN:VEVENT
DTSTART;TZID=Europe/Helsinki:20251119T123000
DTEND;TZID=Europe/Helsinki:20251119T140000
DTSTAMP:20260422T120922
CREATED:20251017T064759Z
LAST-MODIFIED:20251017T064759Z
UID:20639-1763555400-1763560800@ekfechanion.eu
SUMMARY:4η Συνάντηση (ΠΕ04 Γυμνασίου)
DESCRIPTION:Αποτίμηση Εφαρμογής των εργαστηριακών\nδραστηριοτήτων στο σχολείο\n Παρουσιάσεις από εκπαιδευτικούς\n Νέες προτάσεις δραστηριοτήτων\n Καλές πρακτικές στην εργαστηριακή διδασκαλία
URL:https://ekfechanion.eu/event/4i-synantisi-pe04-gymnasiou/
END:VEVENT
BEGIN:VEVENT
DTSTART;TZID=Europe/Helsinki:20251126T123000
DTEND;TZID=Europe/Helsinki:20251126T140000
DTSTAMP:20260422T120922
CREATED:20251017T064925Z
LAST-MODIFIED:20251017T064925Z
UID:20641-1764160200-1764165600@ekfechanion.eu
SUMMARY:5η Συνάντηση (ΠΕ04 Λυκείου)
DESCRIPTION:Εργαστηριακές δραστηριότητες\n Καλές πρακτικές στην εργαστηριακή διδασκαλία\n Διαγωνισμός Πειραμάτων EOES
URL:https://ekfechanion.eu/event/5i-synantisi-pe04-lykeiou/
END:VEVENT
BEGIN:VEVENT
DTSTART;TZID=Europe/Helsinki:20251206T083000
DTEND;TZID=Europe/Helsinki:20251206T133000
DTSTAMP:20260422T120922
CREATED:20251017T065445Z
LAST-MODIFIED:20251017T065445Z
UID:20647-1765009800-1765027800@ekfechanion.eu
SUMMARY:Τοπικός Διαγωνισμός EOES
DESCRIPTION:Μαθητικός διαγωνιμός πειραμάτων για την Ολυμπιάδα πειραμάτων Φ.Ε.
URL:https://ekfechanion.eu/event/topikos-diagonismos-eoes/
END:VEVENT
BEGIN:VEVENT
DTSTART;TZID=Europe/Helsinki:20251217T123000
DTEND;TZID=Europe/Helsinki:20251217T140000
DTSTAMP:20260422T120922
CREATED:20251017T065316Z
LAST-MODIFIED:20251017T065316Z
UID:20645-1765974600-1765980000@ekfechanion.eu
SUMMARY:6η Συνάντηση ΠΕ04
DESCRIPTION:Αποτίμηση\n Προγραμματισμός Γιορτάζοντας\n Μαθητική ημερίδα για τις Φ.Ε\n Κλείσιμο 2025 – “κέρασμα”
URL:https://ekfechanion.eu/event/6i-synantisi-pe04/
END:VEVENT
BEGIN:VEVENT
DTSTART;TZID=Europe/Helsinki:20260114T093000
DTEND;TZID=Europe/Helsinki:20260114T110000
DTSTAMP:20260422T120922
CREATED:20260112T080703Z
LAST-MODIFIED:20260112T080703Z
UID:21360-1768383000-1768388400@ekfechanion.eu
SUMMARY:Συντονιστική συνάντηση για δίκτυο σεισμογράφων
DESCRIPTION:Τηλεδιάσκεψη με Ινστιτούτο Εσωτ. Γης ΕΛΜΕΠΑ\, και συναδέλφους
URL:https://ekfechanion.eu/event/syntonistiki-synantisi-gia-diktyo-seismografon/
END:VEVENT
BEGIN:VEVENT
DTSTART;TZID=Europe/Helsinki:20260115T090000
DTEND;TZID=Europe/Helsinki:20260115T123000
DTSTAMP:20260422T120922
CREATED:20260112T081005Z
LAST-MODIFIED:20260112T081005Z
UID:21363-1768467600-1768480200@ekfechanion.eu
SUMMARY:Επίσκεψη στο 16ο Δημοτικό
DESCRIPTION:Ηλεκτρισμός – συνδεσμολογία \nΘερμότητα – Η/Μ
URL:https://ekfechanion.eu/event/episkepsi-sto-16o-dimotiko/
ORGANIZER;CN="%CE%95%CE%9A%CE%A6%CE%95 %CE%A7%CE%B1%CE%BD%CE%AF%CF%89%CE%BD":MAILTO:ekfechan@gmail.com
END:VEVENT
BEGIN:VEVENT
DTSTART;TZID=Europe/Helsinki:20260121T003000
DTEND;TZID=Europe/Helsinki:20260121T140000
DTSTAMP:20260422T120922
CREATED:20260112T075932Z
LAST-MODIFIED:20260112T082729Z
UID:21356-1768955400-1769004000@ekfechanion.eu
SUMMARY:7η Συνάντηση ΠΕ04
DESCRIPTION:Εργ. Δραστηριότητες Βιολογίας\nΜετατροπές Ενέργειας\nΝέο έτος (δραστηριότητες\, πιτα)
URL:https://ekfechanion.eu/event/7i-synantisi-pe04/
ORGANIZER;CN="%CE%95%CE%9A%CE%A6%CE%95 %CE%A7%CE%B1%CE%BD%CE%AF%CF%89%CE%BD":MAILTO:ekfechan@gmail.com
END:VEVENT
BEGIN:VEVENT
DTSTART;TZID=Europe/Helsinki:20260211T123000
DTEND;TZID=Europe/Helsinki:20260211T140000
DTSTAMP:20260422T120922
CREATED:20260112T080427Z
LAST-MODIFIED:20260112T082816Z
UID:21358-1770813000-1770818400@ekfechanion.eu
SUMMARY:8η Συνάντηση ΠΕ04 - Λύκειο
DESCRIPTION:Παρουσιάσεις συναδέλφων\nTracker\nΠαλμογράφος\nΣυσκευή Φωτοηλεκτρικού Φαινομένου
URL:https://ekfechanion.eu/event/8i-synantisi-pe04-lykeio/
ORGANIZER;CN="%CE%95%CE%9A%CE%A6%CE%95 %CE%A7%CE%B1%CE%BD%CE%AF%CF%89%CE%BD":MAILTO:ekfechan@gmail.com
END:VEVENT
BEGIN:VEVENT
DTSTART;VALUE=DATE:20260218
DTEND;VALUE=DATE:20260219
DTSTAMP:20260422T120922
CREATED:20251107T073817Z
LAST-MODIFIED:20251119T083719Z
UID:20795-1771372800-1771459199@ekfechanion.eu
SUMMARY:MasterClasses 2026
DESCRIPTION:Δικτυακή ημερίδα για τα στοιχειώδη σωμάτια
URL:https://ekfechanion.eu/event/masterclasses-2026/
END:VEVENT
BEGIN:VEVENT
DTSTART;TZID=Europe/Helsinki:20260311T123000
DTEND;TZID=Europe/Helsinki:20260311T140000
DTSTAMP:20260422T120922
CREATED:20260311T070051Z
LAST-MODIFIED:20260302T090854Z
UID:21367-1773232200-1773237600@ekfechanion.eu
SUMMARY:Chania Chem Hunt
DESCRIPTION:Εργ. Δραστηριότητες Γυμνασίου\nΠαρουσιάσεις συναδέλφων
URL:https://ekfechanion.eu/event/chania_chem/
ORGANIZER;CN="%CE%95%CE%9A%CE%A6%CE%95 %CE%A7%CE%B1%CE%BD%CE%AF%CF%89%CE%BD":MAILTO:ekfechan@gmail.com
END:VEVENT
BEGIN:VEVENT
DTSTART;TZID=Europe/Helsinki:20260401T123000
DTEND;TZID=Europe/Helsinki:20260401T140000
DTSTAMP:20260422T120922
CREATED:20260112T082616Z
LAST-MODIFIED:20260302T090704Z
UID:21369-1775046600-1775052000@ekfechanion.eu
SUMMARY:9η συνάντηση ΠΕ04
DESCRIPTION:Προετοιμασία Γιορτάζοντας τις ΦΕ\,\nΣυνεδρίου ΦΕ
URL:https://ekfechanion.eu/event/11i-synantisi-pe04/
END:VEVENT
BEGIN:VEVENT
DTSTART;VALUE=DATE:20260509
DTEND;VALUE=DATE:20260510
DTSTAMP:20260422T120922
CREATED:20251119T084412Z
LAST-MODIFIED:20251119T084412Z
UID:20909-1778284800-1778371199@ekfechanion.eu
SUMMARY:Γιορτάζοντας τις Φ.Ε. στα Χανιά
DESCRIPTION:Ετήσια εκδήλωση που διοργανώνει το ΕΚΦΕ Χανίων με τη συμμετοχή σχολέιων όλων βαθμίδων του νομού Χανίων
URL:https://ekfechanion.eu/event/giortazontas-tis-f-e-sta-chania-2/
END:VEVENT
END:VCALENDAR