BEGIN:VCALENDAR
VERSION:2.0
PRODID:-//ΕΚΦΕ Χανίων - ECPv6.15.20//NONSGML v1.0//EN
CALSCALE:GREGORIAN
METHOD:PUBLISH
X-WR-CALNAME:ΕΚΦΕ Χανίων
X-ORIGINAL-URL:https://ekfechanion.eu
X-WR-CALDESC:Events for ΕΚΦΕ Χανίων
REFRESH-INTERVAL;VALUE=DURATION:PT1H
X-Robots-Tag:noindex
X-PUBLISHED-TTL:PT1H
BEGIN:VTIMEZONE
TZID:Europe/Helsinki
BEGIN:DAYLIGHT
TZOFFSETFROM:+0200
TZOFFSETTO:+0300
TZNAME:EEST
DTSTART:20230326T010000
END:DAYLIGHT
BEGIN:STANDARD
TZOFFSETFROM:+0300
TZOFFSETTO:+0200
TZNAME:EET
DTSTART:20231029T010000
END:STANDARD
BEGIN:DAYLIGHT
TZOFFSETFROM:+0200
TZOFFSETTO:+0300
TZNAME:EEST
DTSTART:20240331T010000
END:DAYLIGHT
BEGIN:STANDARD
TZOFFSETFROM:+0300
TZOFFSETTO:+0200
TZNAME:EET
DTSTART:20241027T010000
END:STANDARD
BEGIN:DAYLIGHT
TZOFFSETFROM:+0200
TZOFFSETTO:+0300
TZNAME:EEST
DTSTART:20250330T010000
END:DAYLIGHT
BEGIN:STANDARD
TZOFFSETFROM:+0300
TZOFFSETTO:+0200
TZNAME:EET
DTSTART:20251026T010000
END:STANDARD
END:VTIMEZONE
BEGIN:VEVENT
DTSTART;VALUE=DATE:20240312
DTEND;VALUE=DATE:20240313
DTSTAMP:20260422T144932
CREATED:20231110T082851Z
LAST-MODIFIED:20231110T082851Z
UID:14669-1710201600-1710287999@ekfechanion.eu
SUMMARY:Δημ. Σχ. Τσικαλαριών
DESCRIPTION:Εκπαιδευτική επίσκεψη στον χώρο του ΕΚΦΕ.
URL:https://ekfechanion.eu/event/%ce%b4%ce%b7%ce%bc-%cf%83%cf%87-%cf%84%cf%83%ce%b9%ce%ba%ce%b1%ce%bb%ce%b1%cf%81%ce%b9%cf%8e%ce%bd-2/
END:VEVENT
BEGIN:VEVENT
DTSTART;VALUE=DATE:20240308
DTEND;VALUE=DATE:20240309
DTSTAMP:20260422T144932
CREATED:20231208T103956Z
LAST-MODIFIED:20231208T103956Z
UID:15358-1709856000-1709942399@ekfechanion.eu
SUMMARY:1ο Γυμνάσιο Κισσάμου
DESCRIPTION:Εκπαιδευτική επίσκεψη Γ’ Γυμνασίου – Φυσική (Ηλεκτρικά κυκλώματα) και Χημεία (Χημικές αντιδράσεις).
URL:https://ekfechanion.eu/event/1o-gymnasio-kissamou/
END:VEVENT
BEGIN:VEVENT
DTSTART;VALUE=DATE:20240307
DTEND;VALUE=DATE:20240308
DTSTAMP:20260422T144932
CREATED:20231110T082754Z
LAST-MODIFIED:20231110T082754Z
UID:14667-1709769600-1709855999@ekfechanion.eu
SUMMARY:Δημ. Σχ. Γερανίου
DESCRIPTION:Εκπαιδευτική επίσκεψη στον χώρο του ΕΚΦΕ.
URL:https://ekfechanion.eu/event/%ce%b4%ce%b7%ce%bc-%cf%83%cf%87-%ce%b3%ce%b5%cf%81%ce%b1%ce%bd%ce%af%ce%bf%cf%85/
END:VEVENT
BEGIN:VEVENT
DTSTART;VALUE=DATE:20240306
DTEND;VALUE=DATE:20240307
DTSTAMP:20260422T144932
CREATED:20231213T070032Z
LAST-MODIFIED:20231213T070552Z
UID:15523-1709683200-1709769599@ekfechanion.eu
SUMMARY:7ο Γυμνάσιο Χανίων
DESCRIPTION:Εκπαιδευτική επίσκεψη Α’ Γυμνασίου – Βιολογία (Πρωτόζωα) – Αριθμός μαθητών: 15
URL:https://ekfechanion.eu/event/7o-gymnasio-chanion/
END:VEVENT
BEGIN:VEVENT
DTSTART;VALUE=DATE:20240305
DTEND;VALUE=DATE:20240306
DTSTAMP:20260422T144932
CREATED:20231108T065041Z
LAST-MODIFIED:20231108T065041Z
UID:14501-1709596800-1709683199@ekfechanion.eu
SUMMARY:Masterclasses 2024
DESCRIPTION:
URL:https://ekfechanion.eu/event/masterclasses-2024/
END:VEVENT
BEGIN:VEVENT
DTSTART;VALUE=DATE:20240301
DTEND;VALUE=DATE:20240302
DTSTAMP:20260422T144932
CREATED:20240221T111914Z
LAST-MODIFIED:20240221T111914Z
UID:17503-1709251200-1709337599@ekfechanion.eu
SUMMARY:Επίσκεψη στο ΕΝΕΓΥΛ Χανίων
DESCRIPTION:Παρουσίαση εντυπωσιακών πειραμάτων Φυσικής και Χημείας
URL:https://ekfechanion.eu/event/episkepsi-sto-enegyl-chanion/
LOCATION:ΕΝΕΓΥΛ Χανίων
ORGANIZER;CN="%CE%95%CE%9A%CE%A6%CE%95 %CE%A7%CE%B1%CE%BD%CE%AF%CF%89%CE%BD":MAILTO:ekfechan@gmail.com
END:VEVENT
BEGIN:VEVENT
DTSTART;VALUE=DATE:20240229
DTEND;VALUE=DATE:20240301
DTSTAMP:20260422T144932
CREATED:20231110T082706Z
LAST-MODIFIED:20240220T105449Z
UID:14665-1709164800-1709251199@ekfechanion.eu
SUMMARY:Δημ. Σχ. Νιου Χωριού & Δημ. Σχ. Καλυβών
DESCRIPTION:Εκπαιδευτική επίσκεψη στον χώρο του ΕΚΦΕ.
URL:https://ekfechanion.eu/event/dim-sch-niou-choriou/
END:VEVENT
BEGIN:VEVENT
DTSTART;VALUE=DATE:20240227
DTEND;VALUE=DATE:20240228
DTSTAMP:20260422T144932
CREATED:20231110T082622Z
LAST-MODIFIED:20231110T082622Z
UID:14663-1708992000-1709078399@ekfechanion.eu
SUMMARY:2ο Δημ. Σχ. Νέας Κυδωνίας
DESCRIPTION:Εκπαιδευτική επίσκεψη στον χώρο του ΕΚΦΕ.
URL:https://ekfechanion.eu/event/2%ce%bf-%ce%b4%ce%b7%ce%bc-%cf%83%cf%87-%ce%bd%ce%ad%ce%b1%cf%82-%ce%ba%cf%85%ce%b4%cf%89%ce%bd%ce%af%ce%b1%cf%82-2/
END:VEVENT
BEGIN:VEVENT
DTSTART;VALUE=DATE:20240222
DTEND;VALUE=DATE:20240223
DTSTAMP:20260422T144932
CREATED:20231110T081615Z
LAST-MODIFIED:20231110T081615Z
UID:14661-1708560000-1708646399@ekfechanion.eu
SUMMARY:2ο Δημ. Σχ. Χανίων
DESCRIPTION:Εκπαιδευτική επίσκεψη στον χώρο του ΕΚΦΕ.
URL:https://ekfechanion.eu/event/2%ce%bf-%ce%b4%ce%b7%ce%bc-%cf%83%cf%87-%cf%87%ce%b1%ce%bd%ce%af%cf%89%ce%bd/
END:VEVENT
BEGIN:VEVENT
DTSTART;VALUE=DATE:20240221
DTEND;VALUE=DATE:20240222
DTSTAMP:20260422T144932
CREATED:20231120T065023Z
LAST-MODIFIED:20231120T065023Z
UID:15305-1708473600-1708559999@ekfechanion.eu
SUMMARY:Γυμνάσιο Κουνουπιδιανών
DESCRIPTION:Εκπαιδευτική επίσκεψη Γ’ Γυμνασίου – Φυσική (Ηλεκτρικό ρεύμα έως και ενέργεια)\, Χημεία (Έως και άλατα) και Βιολογία (Ροή γενετικής πληροφορίας).
URL:https://ekfechanion.eu/event/gymnasio-kounoupidianon-4/
END:VEVENT
BEGIN:VEVENT
DTSTART;VALUE=DATE:20240220
DTEND;VALUE=DATE:20240221
DTSTAMP:20260422T144932
CREATED:20231110T081542Z
LAST-MODIFIED:20231110T081542Z
UID:14659-1708387200-1708473599@ekfechanion.eu
SUMMARY:2ο Δημ. Σχ. Νέας Κυδωνίας
DESCRIPTION:Εκπαιδευτική επίσκεψη στον χώρο του ΕΚΦΕ.
URL:https://ekfechanion.eu/event/2%ce%bf-%ce%b4%ce%b7%ce%bc-%cf%83%cf%87-%ce%bd%ce%ad%ce%b1%cf%82-%ce%ba%cf%85%ce%b4%cf%89%ce%bd%ce%af%ce%b1%cf%82/
END:VEVENT
BEGIN:VEVENT
DTSTART;VALUE=DATE:20240216
DTEND;VALUE=DATE:20240217
DTSTAMP:20260422T144932
CREATED:20231120T064925Z
LAST-MODIFIED:20240112T092045Z
UID:15303-1708041600-1708127999@ekfechanion.eu
SUMMARY:Γυμνάσιο Κουνουπιδιανών
DESCRIPTION:Εκπαιδευτική επίσκεψη Γ’ Γυμνασίου – Φυσική (Ηλεκτρικό ρεύμα έως και ενέργεια)\, Χημεία (?) και Βιολογία (Ροή γενετικής πληροφορίας). \n2 Τμήματα \n9.00-10.30 \n10.30-12.00
URL:https://ekfechanion.eu/event/gymnasio-kounoupidianon-3/
END:VEVENT
BEGIN:VEVENT
DTSTART;TZID=Europe/Helsinki:20240215T120000
DTEND;TZID=Europe/Helsinki:20240215T150000
DTSTAMP:20260422T144932
CREATED:20240205T081443Z
LAST-MODIFIED:20240205T081443Z
UID:16975-1707998400-1708009200@ekfechanion.eu
SUMMARY:Συζευξις
DESCRIPTION:Εγκατάσταση εξοπλισμού
URL:https://ekfechanion.eu/event/syzefxis-2/
LOCATION:ΕΚΦΕ Χανίων\, EKFE Chania\, Chania\, Crete\, 73100\, Ελλάδα
END:VEVENT
BEGIN:VEVENT
DTSTART;VALUE=DATE:20240215
DTEND;VALUE=DATE:20240216
DTSTAMP:20260422T144932
CREATED:20231110T081412Z
LAST-MODIFIED:20231110T081412Z
UID:14657-1707955200-1708041599@ekfechanion.eu
SUMMARY:Δημ. Σχ. Τσικαλαριών
DESCRIPTION:Εκπαιδευτική επίσκεψη στον χώρο του ΕΚΦΕ.
URL:https://ekfechanion.eu/event/%ce%b4%ce%b7%ce%bc-%cf%83%cf%87-%cf%84%cf%83%ce%b9%ce%ba%ce%b1%ce%bb%ce%b1%cf%81%ce%b9%cf%8e%ce%bd/
END:VEVENT
BEGIN:VEVENT
DTSTART;VALUE=DATE:20240214
DTEND;VALUE=DATE:20240215
DTSTAMP:20260422T144932
CREATED:20231116T101000Z
LAST-MODIFIED:20231116T101000Z
UID:15238-1707868800-1707955199@ekfechanion.eu
SUMMARY:Μουσικό Γυμνάσιο
DESCRIPTION:Εκπαιδευτική επίσκεψη Α’ Γυμνασίου – Φυσική (Κύκλωματα – Βραχυκύκλωμα) και Βιολογία (Παρατήρηση κυττάρων).
URL:https://ekfechanion.eu/event/mousiko-gymnasio/
END:VEVENT
BEGIN:VEVENT
DTSTART;VALUE=DATE:20240213
DTEND;VALUE=DATE:20240214
DTSTAMP:20260422T144932
CREATED:20231110T081329Z
LAST-MODIFIED:20231110T081329Z
UID:14655-1707782400-1707868799@ekfechanion.eu
SUMMARY:11ο Δημ. Σχ. Χανίων
DESCRIPTION:Εκπαιδευτική επίσκεψη στον χώρο του ΕΚΦΕ.
URL:https://ekfechanion.eu/event/11%ce%bf-%ce%b4%ce%b7%ce%bc-%cf%83%cf%87-%cf%87%ce%b1%ce%bd%ce%af%cf%89%ce%bd-3/
END:VEVENT
BEGIN:VEVENT
DTSTART;VALUE=DATE:20240208
DTEND;VALUE=DATE:20240209
DTSTAMP:20260422T144932
CREATED:20231110T081204Z
LAST-MODIFIED:20231110T081204Z
UID:14653-1707350400-1707436799@ekfechanion.eu
SUMMARY:Δημ. Σχ. Βρυσών
DESCRIPTION:Εκπαιδευτική επίσκεψη στον χώρο του ΕΚΦΕ.
URL:https://ekfechanion.eu/event/%ce%b4%ce%b7%ce%bc-%cf%83%cf%87-%ce%b2%cf%81%cf%85%cf%83%cf%8e%ce%bd/
END:VEVENT
BEGIN:VEVENT
DTSTART;VALUE=DATE:20240207
DTEND;VALUE=DATE:20240208
DTSTAMP:20260422T144932
CREATED:20231113T071557Z
LAST-MODIFIED:20231113T072827Z
UID:14940-1707264000-1707350399@ekfechanion.eu
SUMMARY:Γυμνάσιο Ιδιωτικών Εκπαιδευτηρίων Θεοδωρόπουλου
DESCRIPTION:Εκπαιδευτική επίσκεψη Β’ Γυμνασίου – Φυσική (Υδροστατική πίεση).
URL:https://ekfechanion.eu/event/%ce%b3%cf%85%ce%bc%ce%bd%ce%ac%cf%83%ce%b9%ce%bf-%ce%b9%ce%b4%ce%b9%cf%89%cf%84%ce%b9%ce%ba%cf%8e%ce%bd-%ce%b5%ce%ba%cf%80%ce%b1%ce%b9%ce%b4%ce%b5%cf%85%cf%84%ce%b7%cf%81%ce%af%cf%89%ce%bd-%ce%b8/
END:VEVENT
BEGIN:VEVENT
DTSTART;VALUE=DATE:20240206
DTEND;VALUE=DATE:20240207
DTSTAMP:20260422T144932
CREATED:20231110T081123Z
LAST-MODIFIED:20231110T081123Z
UID:14651-1707177600-1707263999@ekfechanion.eu
SUMMARY:14ο Δημ. Σχ. Χανίων
DESCRIPTION:Εκπαιδευτική επίσκεψη στον χώρο του ΕΚΦΕ.
URL:https://ekfechanion.eu/event/14%ce%bf-%ce%b4%ce%b7%ce%bc-%cf%83%cf%87-%cf%87%ce%b1%ce%bd%ce%af%cf%89%ce%bd-2/
END:VEVENT
BEGIN:VEVENT
DTSTART;VALUE=DATE:20240202
DTEND;VALUE=DATE:20240203
DTSTAMP:20260422T144932
CREATED:20231120T064214Z
LAST-MODIFIED:20240112T091134Z
UID:15297-1706832000-1706918399@ekfechanion.eu
SUMMARY:Γυμνάσιο Κουνουπιδιανών
DESCRIPTION:Εκπαιδευτική επίσκεψη Γ’ Γυμνασίου – Φυσική (Ηλεκτρικό ρεύμα έως και ενέργεια) και Βιολογία (Ροή γενετικής πληροφορίας). \n2 Τμήματα \n9-10.30 \n10.30-12.00
URL:https://ekfechanion.eu/event/gymnasio-kounoupidianon/
END:VEVENT
BEGIN:VEVENT
DTSTART;VALUE=DATE:20240201
DTEND;VALUE=DATE:20240202
DTSTAMP:20260422T144932
CREATED:20231110T081044Z
LAST-MODIFIED:20231110T081044Z
UID:14649-1706745600-1706831999@ekfechanion.eu
SUMMARY:1ο Δημ. Σχ. Σούδας
DESCRIPTION:Εκπαιδευτική επίσκεψη στον χώρο του ΕΚΦΕ.
URL:https://ekfechanion.eu/event/1%ce%bf-%ce%b4%ce%b7%ce%bc-%cf%83%cf%87-%cf%83%ce%bf%cf%8d%ce%b4%ce%b1%cf%82/
END:VEVENT
BEGIN:VEVENT
DTSTART;VALUE=DATE:20240131
DTEND;VALUE=DATE:20240201
DTSTAMP:20260422T144932
CREATED:20231113T071825Z
LAST-MODIFIED:20231113T073215Z
UID:14944-1706659200-1706745599@ekfechanion.eu
SUMMARY:Λύκειο Ιδιωτικών Εκπαιδευτηρίων Θεοδωρόπουλου
DESCRIPTION:Εκπαιδευτική επίσκεψη Α’ Λυκείου – Χημεία (Χημικές αντιδράσεις).
URL:https://ekfechanion.eu/event/%ce%bb%cf%8d%ce%ba%ce%b5%ce%b9%ce%bf-%ce%b9%ce%b4%ce%b9%cf%89%cf%84%ce%b9%ce%ba%cf%8e%ce%bd-%ce%b5%ce%ba%cf%80%ce%b1%ce%b9%ce%b4%ce%b5%cf%85%cf%84%ce%b7%cf%81%ce%af%cf%89%ce%bd-%ce%b8%ce%b5%ce%bf-2/
END:VEVENT
BEGIN:VEVENT
DTSTART;VALUE=DATE:20240127
DTEND;VALUE=DATE:20240129
DTSTAMP:20260422T144932
CREATED:20231108T064512Z
LAST-MODIFIED:20231108T064605Z
UID:14497-1706313600-1706486399@ekfechanion.eu
SUMMARY:EOES - Πανελλήνιος διαγωνισμός
DESCRIPTION:
URL:https://ekfechanion.eu/event/eoes-%cf%80%ce%b1%ce%bd%ce%b5%ce%bb%ce%bb%ce%ae%ce%bd%ce%b9%ce%bf%cf%82-%ce%b4%ce%b9%ce%b1%ce%b3%cf%89%ce%bd%ce%b9%cf%83%ce%bc%cf%8c%cf%82/
END:VEVENT
BEGIN:VEVENT
DTSTART;VALUE=DATE:20240125
DTEND;VALUE=DATE:20240126
DTSTAMP:20260422T144932
CREATED:20231110T081000Z
LAST-MODIFIED:20231110T081000Z
UID:14647-1706140800-1706227199@ekfechanion.eu
SUMMARY:2ο Δημ. Σχ. Κουνουπιδιανών
DESCRIPTION:Εκπαιδευτική επίσκεψη στον χώρο του ΕΚΦΕ.
URL:https://ekfechanion.eu/event/2%ce%bf-%ce%b4%ce%b7%ce%bc-%cf%83%cf%87-%ce%ba%ce%bf%cf%85%ce%bd%ce%bf%cf%85%cf%80%ce%b9%ce%b4%ce%b9%ce%b1%ce%bd%cf%8e%ce%bd-2/
END:VEVENT
BEGIN:VEVENT
DTSTART;TZID=Europe/Helsinki:20240124T123000
DTEND;TZID=Europe/Helsinki:20240124T143000
DTSTAMP:20260422T144932
CREATED:20231108T064357Z
LAST-MODIFIED:20231108T064357Z
UID:14495-1706099400-1706106600@ekfechanion.eu
SUMMARY:Συνάντηση ΠΕ04 Λυκείου
DESCRIPTION:
URL:https://ekfechanion.eu/event/%cf%83%cf%85%ce%bd%ce%ac%ce%bd%cf%84%ce%b7%cf%83%ce%b7-%cf%80%ce%b504-%ce%bb%cf%85%ce%ba%ce%b5%ce%af%ce%bf%cf%85-2/
END:VEVENT
BEGIN:VEVENT
DTSTART;VALUE=DATE:20240123
DTEND;VALUE=DATE:20240124
DTSTAMP:20260422T144932
CREATED:20231110T080913Z
LAST-MODIFIED:20231110T080913Z
UID:14645-1705968000-1706054399@ekfechanion.eu
SUMMARY:2ο Δημ. Σχ. Κουνουπιδιανών
DESCRIPTION:Εκπαιδευτική επίσκεψη στον χώρο του ΕΚΦΕ.
URL:https://ekfechanion.eu/event/2%ce%bf-%ce%b4%ce%b7%ce%bc-%cf%83%cf%87-%ce%ba%ce%bf%cf%85%ce%bd%ce%bf%cf%85%cf%80%ce%b9%ce%b4%ce%b9%ce%b1%ce%bd%cf%8e%ce%bd/
END:VEVENT
BEGIN:VEVENT
DTSTART;VALUE=DATE:20240118
DTEND;VALUE=DATE:20240119
DTSTAMP:20260422T144932
CREATED:20231110T080820Z
LAST-MODIFIED:20231110T080820Z
UID:14643-1705536000-1705622399@ekfechanion.eu
SUMMARY:Δημ. Σχ. Παζινού
DESCRIPTION:Εκπαιδευτική επίσκεψη στον χώρο του ΕΚΦΕ.
URL:https://ekfechanion.eu/event/%ce%b4%ce%b7%ce%bc-%cf%83%cf%87-%cf%80%ce%b1%ce%b6%ce%b9%ce%bd%ce%bf%cf%8d/
END:VEVENT
BEGIN:VEVENT
DTSTART;TZID=Europe/Helsinki:20240117T123000
DTEND;TZID=Europe/Helsinki:20240117T143000
DTSTAMP:20260422T144932
CREATED:20231108T064303Z
LAST-MODIFIED:20231108T064303Z
UID:14493-1705494600-1705501800@ekfechanion.eu
SUMMARY:Συνάντηση ΠΕ04 Γυμνασίου
DESCRIPTION:
URL:https://ekfechanion.eu/event/%cf%83%cf%85%ce%bd%ce%ac%ce%bd%cf%84%ce%b7%cf%83%ce%b7-%cf%80%ce%b504-%ce%b3%cf%85%ce%bc%ce%bd%ce%b1%cf%83%ce%af%ce%bf%cf%85/
END:VEVENT
BEGIN:VEVENT
DTSTART;VALUE=DATE:20240116
DTEND;VALUE=DATE:20240117
DTSTAMP:20260422T144932
CREATED:20231110T080749Z
LAST-MODIFIED:20231110T080749Z
UID:14641-1705363200-1705449599@ekfechanion.eu
SUMMARY:Δημ. Σχ. Χωραφακίων
DESCRIPTION:Εκπαιδευτική επίσκεψη στον χώρο του ΕΚΦΕ.
URL:https://ekfechanion.eu/event/%ce%b4%ce%b7%ce%bc-%cf%83%cf%87-%cf%87%cf%89%cf%81%ce%b1%cf%86%ce%b1%ce%ba%ce%af%cf%89%ce%bd/
END:VEVENT
BEGIN:VEVENT
DTSTART;VALUE=DATE:20240112
DTEND;VALUE=DATE:20240113
DTSTAMP:20260422T144932
CREATED:20231116T100334Z
LAST-MODIFIED:20231116T100709Z
UID:15234-1705017600-1705103999@ekfechanion.eu
SUMMARY:1ο Γυμνάσιο Ελευθερίου Βενιζέλου
DESCRIPTION:Εκπαιδευτική επίσκεψη Γ’ Γυμνασίου – Φυσική (Ηλεκτρισμός) και Βιολογία (DNA Extraction).
URL:https://ekfechanion.eu/event/1o-gymnasio-eleftheriou-venizelou/
END:VEVENT
END:VCALENDAR