BEGIN:VCALENDAR
VERSION:2.0
PRODID:-//ΕΚΦΕ Χανίων - ECPv6.15.20//NONSGML v1.0//EN
CALSCALE:GREGORIAN
METHOD:PUBLISH
X-WR-CALNAME:ΕΚΦΕ Χανίων
X-ORIGINAL-URL:https://ekfechanion.eu
X-WR-CALDESC:Events for ΕΚΦΕ Χανίων
REFRESH-INTERVAL;VALUE=DURATION:PT1H
X-Robots-Tag:noindex
X-PUBLISHED-TTL:PT1H
BEGIN:VTIMEZONE
TZID:Europe/Helsinki
BEGIN:DAYLIGHT
TZOFFSETFROM:+0200
TZOFFSETTO:+0300
TZNAME:EEST
DTSTART:20230326T010000
END:DAYLIGHT
BEGIN:STANDARD
TZOFFSETFROM:+0300
TZOFFSETTO:+0200
TZNAME:EET
DTSTART:20231029T010000
END:STANDARD
BEGIN:DAYLIGHT
TZOFFSETFROM:+0200
TZOFFSETTO:+0300
TZNAME:EEST
DTSTART:20240331T010000
END:DAYLIGHT
BEGIN:STANDARD
TZOFFSETFROM:+0300
TZOFFSETTO:+0200
TZNAME:EET
DTSTART:20241027T010000
END:STANDARD
BEGIN:DAYLIGHT
TZOFFSETFROM:+0200
TZOFFSETTO:+0300
TZNAME:EEST
DTSTART:20250330T010000
END:DAYLIGHT
BEGIN:STANDARD
TZOFFSETFROM:+0300
TZOFFSETTO:+0200
TZNAME:EET
DTSTART:20251026T010000
END:STANDARD
BEGIN:DAYLIGHT
TZOFFSETFROM:+0200
TZOFFSETTO:+0300
TZNAME:EEST
DTSTART:20260329T010000
END:DAYLIGHT
BEGIN:STANDARD
TZOFFSETFROM:+0300
TZOFFSETTO:+0200
TZNAME:EET
DTSTART:20261025T010000
END:STANDARD
END:VTIMEZONE
BEGIN:VEVENT
DTSTART;TZID=Europe/Helsinki:20241210T090000
DTEND;TZID=Europe/Helsinki:20241210T110000
DTSTAMP:20260420T064751
CREATED:20250116T070606Z
LAST-MODIFIED:20250116T070606Z
UID:19441-1733821200-1733828400@ekfechanion.eu
SUMMARY:Επισκεψη ΕΠΑΛ Ακρωτηρίου
DESCRIPTION:Β Λυκείου \nΜετατροπές Ενέργειας
URL:https://ekfechanion.eu/event/episkepsi-epal-akrotiriou/
END:VEVENT
BEGIN:VEVENT
DTSTART;TZID=Europe/Helsinki:20241212T090000
DTEND;TZID=Europe/Helsinki:20241212T110000
DTSTAMP:20260420T064751
CREATED:20250116T070715Z
LAST-MODIFIED:20250116T070735Z
UID:19443-1733994000-1734001200@ekfechanion.eu
SUMMARY:Επισκεψη ΕΠΑΛ Ακρωρτηρίου
DESCRIPTION:Β Λυκείου \nΜετατροπές Ενέργειας
URL:https://ekfechanion.eu/event/episkepsi-epal-akrortiriou/
END:VEVENT
BEGIN:VEVENT
DTSTART;TZID=Europe/Helsinki:20241212T100000
DTEND;TZID=Europe/Helsinki:20241212T110000
DTSTAMP:20260420T064751
CREATED:20241212T102303Z
LAST-MODIFIED:20241212T102303Z
UID:19365-1733997600-1734001200@ekfechanion.eu
SUMMARY:Επίσκεψη ΕΠΑΛ
DESCRIPTION:Μαθητές & Μαθήτριες Β ΕΠΑΛ \nΠηγές ενέργειας: Ανεμογεννήτρια\, Υδροηλεκτρικό εργαστάσιο\, Φωτοβολταϊκά
URL:https://ekfechanion.eu/event/episkepsi-epal/
END:VEVENT
BEGIN:VEVENT
DTSTART;TZID=Europe/Helsinki:20241217T090000
DTEND;TZID=Europe/Helsinki:20241217T110000
DTSTAMP:20260420T064751
CREATED:20241212T102412Z
LAST-MODIFIED:20241212T102412Z
UID:19367-1734426000-1734433200@ekfechanion.eu
SUMMARY:Επίσκεψη ΕΠΑΛ
DESCRIPTION:Μαθητές & Μαθήτριες Β ΕΠΑΛ (2 τμήματα) \nΠηγές ενέργειας: Ανεμογεννήτρια\, Υδροηλεκτρικό εργαστάσιο\, Φωτοβολταϊκά
URL:https://ekfechanion.eu/event/episkepsi-epal-2/
ORGANIZER;CN="%CE%95%CE%9A%CE%A6%CE%95 %CE%A7%CE%B1%CE%BD%CE%AF%CF%89%CE%BD":MAILTO:ekfechan@gmail.com
END:VEVENT
BEGIN:VEVENT
DTSTART;TZID=Europe/Helsinki:20241218T123000
DTEND;TZID=Europe/Helsinki:20241218T140000
DTSTAMP:20260420T064751
CREATED:20241003T112025Z
LAST-MODIFIED:20241003T112025Z
UID:18569-1734525000-1734530400@ekfechanion.eu
SUMMARY:ΠΕ04 Γυμνασίου – Λυκείου
DESCRIPTION:Λειτουργία εργαστηριακών συσκευών (π.χ φωτοηλεκτρικό\, μικροσκόπια\, hoffman κ.α.)\n\n\n\n\n\n\n\n 
URL:https://ekfechanion.eu/event/pe04-gymnasiou-lykeiou-2/
END:VEVENT
BEGIN:VEVENT
DTSTART;TZID=Europe/Helsinki:20250113T100000
DTEND;TZID=Europe/Helsinki:20250113T123000
DTSTAMP:20260420T064751
CREATED:20250620T065035Z
LAST-MODIFIED:20250620T065035Z
UID:20310-1736762400-1736771400@ekfechanion.eu
SUMMARY:Επίσκεψη στο Γυμν-ΓΕΛ Παλιόχωρας
DESCRIPTION:Εργαστήριο ΦΕ \nΧώρος τοπθέτησης σχολικού σεισμογράφου
URL:https://ekfechanion.eu/event/episkepsi-sto-gymn-gel-paliochoras/
LOCATION:ΓΕΛ Παλαιοχώρας\, Greece
END:VEVENT
BEGIN:VEVENT
DTSTART;TZID=Europe/Helsinki:20250129T123000
DTEND;TZID=Europe/Helsinki:20250129T140000
DTSTAMP:20260420T064751
CREATED:20250116T065545Z
LAST-MODIFIED:20250116T065545Z
UID:19432-1738153800-1738159200@ekfechanion.eu
SUMMARY:Συνάντηση ΠΕ04 Λυκείου
DESCRIPTION:Απολογισμός Πανελλήνιου διαγωνισμού EOES \n\n\nΠειράματα με χρήση του λογισμικού Tracker
URL:https://ekfechanion.eu/event/synantisi-pe04-lykeiou/
END:VEVENT
BEGIN:VEVENT
DTSTART;TZID=Europe/Helsinki:20250203T100000
DTEND;TZID=Europe/Helsinki:20250203T123000
DTSTAMP:20260420T064751
CREATED:20250620T064617Z
LAST-MODIFIED:20250620T064617Z
UID:20307-1738576800-1738585800@ekfechanion.eu
SUMMARY:Επίσκεψη στο ΣΕΦΕ Αλικιανού
DESCRIPTION:Υποστήριξη εργαστηρίου
URL:https://ekfechanion.eu/event/episkepsi-sto-sefe-alikianou/
LOCATION:ΓΕΛ Αλικιανού\, Greece
ORGANIZER;CN="%CE%95%CE%9A%CE%A6%CE%95 %CE%A7%CE%B1%CE%BD%CE%AF%CF%89%CE%BD":MAILTO:ekfechan@gmail.com
END:VEVENT
BEGIN:VEVENT
DTSTART;TZID=Europe/Helsinki:20250205T090000
DTEND;TZID=Europe/Helsinki:20250205T103000
DTSTAMP:20260420T064751
CREATED:20250116T070423Z
LAST-MODIFIED:20250116T070434Z
UID:19439-1738746000-1738751400@ekfechanion.eu
SUMMARY:Επισκεψη Ιδ. Σχ. Θεοδωρόπουλου
DESCRIPTION:
URL:https://ekfechanion.eu/event/episkepsi-id-sch-theodoropoulou/
END:VEVENT
BEGIN:VEVENT
DTSTART;TZID=Europe/Helsinki:20250212T123000
DTEND;TZID=Europe/Helsinki:20250212T140000
DTSTAMP:20260420T064751
CREATED:20250116T065649Z
LAST-MODIFIED:20250116T065649Z
UID:19434-1739363400-1739368800@ekfechanion.eu
SUMMARY:Συνάντηση ΠΕ04 Γυμνασίου
DESCRIPTION:Εργαστηριακές Δραστηριότητες: Νόμος Hooke\, Άνωση\, Κατασκευή Ηλεκτροκινητήρα
URL:https://ekfechanion.eu/event/synantisi-pe04-gymnasiou-3/
ORGANIZER;CN="%CE%95%CE%9A%CE%A6%CE%95 %CE%A7%CE%B1%CE%BD%CE%AF%CF%89%CE%BD":MAILTO:ekfechan@gmail.com
END:VEVENT
BEGIN:VEVENT
DTSTART;TZID=Europe/Helsinki:20250221T090000
DTEND;TZID=Europe/Helsinki:20250221T110000
DTSTAMP:20260420T064751
CREATED:20250220T063441Z
LAST-MODIFIED:20250220T063441Z
UID:19676-1740128400-1740135600@ekfechanion.eu
SUMMARY:Παρουσιάσεις εργαστηριακών δραστηριοτήτων
DESCRIPTION:Στο πλαισιο των επιμορφωτικών δράσεων της ΠΑΝΕΚΦΕ
URL:https://ekfechanion.eu/event/parousiaseis-ergastiriakon-drastiriotiton/
END:VEVENT
BEGIN:VEVENT
DTSTART;TZID=Europe/Helsinki:20250226T090000
DTEND;TZID=Europe/Helsinki:20250226T120000
DTSTAMP:20260420T064751
CREATED:20250220T063538Z
LAST-MODIFIED:20250220T063538Z
UID:19679-1740560400-1740571200@ekfechanion.eu
SUMMARY:ΓΣ ΠΑΝΕΚΦΕ
DESCRIPTION:13η ΓΣ
URL:https://ekfechanion.eu/event/gs-panekfe/
END:VEVENT
BEGIN:VEVENT
DTSTART;TZID=Europe/Helsinki:20250305T100000
DTEND;TZID=Europe/Helsinki:20250305T133000
DTSTAMP:20260420T064751
CREATED:20250116T065251Z
LAST-MODIFIED:20250116T070115Z
UID:19430-1741168800-1741181400@ekfechanion.eu
SUMMARY:Ενημερωτική Εκδήλωση για τα ΝΠΣ
DESCRIPTION:Συνδιοργάνωση με τη σύμβουλο ΠΕ04 στο Πνευματικό Κέντρο Χανίων. Παρουσιαστής ο Ε.Καππότης (ΙΕΠ\, ΕΚΠΑ\, Πα. Θεσσαλίας\, ΑΣΠΑΙΤΕ)
URL:https://ekfechanion.eu/event/enimerotiki-ekdilosi-gia-ta-nps/
END:VEVENT
BEGIN:VEVENT
DTSTART;TZID=Europe/Helsinki:20250305T110000
DTEND;TZID=Europe/Helsinki:20250305T170000
DTSTAMP:20260420T064751
CREATED:20250220T063748Z
LAST-MODIFIED:20250220T063748Z
UID:19681-1741172400-1741194000@ekfechanion.eu
SUMMARY:Ενημερωτική ημερίδα για τα Νέα Προγράμματα Σπουδών
DESCRIPTION:
URL:https://ekfechanion.eu/event/enimerotiki-imerida-gia-ta-nea-programmata-spoudon/
END:VEVENT
BEGIN:VEVENT
DTSTART;TZID=Europe/Helsinki:20250402T123000
DTEND;TZID=Europe/Helsinki:20250402T140000
DTSTAMP:20260420T064751
CREATED:20250115T122828Z
LAST-MODIFIED:20250115T123032Z
UID:19424-1743597000-1743602400@ekfechanion.eu
SUMMARY:Συνάντηση ΠΕ04 Γυμνασίου
DESCRIPTION:Ενημέρωση για το Γιορτάζοντας τις Φ.Ε. στα Χανιά και το Μαθητικό συνέδριο Φ.Ε.
URL:https://ekfechanion.eu/event/synantisi-pe04-gymnasiou/
END:VEVENT
BEGIN:VEVENT
DTSTART;TZID=Europe/Helsinki:20250403T080000
DTEND;TZID=Europe/Helsinki:20250403T180000
DTSTAMP:20260420T064751
CREATED:20250115T122524Z
LAST-MODIFIED:20250115T122649Z
UID:19420-1743667200-1743703200@ekfechanion.eu
SUMMARY:Masterclasses 2025
DESCRIPTION:Διεθνή Μαθήματα Στοιχειωδών Σωματιδίων\, που διοργανώνονται διαδικτυακά σε συνεργασία με την IPPOG και το πείραμα ALICE στο CERN
URL:https://ekfechanion.eu/event/masterclasses-2025/
END:VEVENT
BEGIN:VEVENT
DTSTART;VALUE=DATE:20250502
DTEND;VALUE=DATE:20250503
DTSTAMP:20260420T064751
CREATED:20250116T065800Z
LAST-MODIFIED:20250116T070023Z
UID:19436-1746144000-1746230399@ekfechanion.eu
SUMMARY:Μαθητικό συνέδριο για τις Φ.Ε.
DESCRIPTION:
URL:https://ekfechanion.eu/event/mathitiko-synedrio-gia-tis-f-e/
LOCATION:Πνευματικό κέντρο Χανιιων\, Ανδρέα Παπανδρέου 74\, Chania\, Crete\, 73134\, Greece
END:VEVENT
BEGIN:VEVENT
DTSTART;VALUE=DATE:20250503
DTEND;VALUE=DATE:20250504
DTSTAMP:20260420T064751
CREATED:20250115T123337Z
LAST-MODIFIED:20250116T064745Z
UID:19426-1746230400-1746316799@ekfechanion.eu
SUMMARY:Γιορτάζοντας τις Φ.Ε. στα Χανιά
DESCRIPTION:Η 10η συνέχεια της εκδήλωσης του ΕΚΦΕ Χανίων
URL:https://ekfechanion.eu/event/giortazontas-tis-f-e-sta-chania/
LOCATION:4ο ΓΕΛ Χανίων\, Chania\, 73100\, Greece
END:VEVENT
BEGIN:VEVENT
DTSTART;TZID=Europe/Helsinki:20250509T080000
DTEND;TZID=Europe/Helsinki:20250509T150000
DTSTAMP:20260420T064751
CREATED:20250527T072540Z
LAST-MODIFIED:20250527T072540Z
UID:20164-1746777600-1746802800@ekfechanion.eu
SUMMARY:ΑΠΤΕΡΑ 2025
DESCRIPTION:Συμμετέχουμε με το εργαστήριο σεισμολογίας αλλά και φτιάχνοντας αρχαία νομίσματα!
URL:https://ekfechanion.eu/event/aptera-2025/
LOCATION:αρχαιολογικός χώρος ΑΠΤΕΡΑΣ\, Greece
END:VEVENT
BEGIN:VEVENT
DTSTART;TZID=Europe/Helsinki:20250527T080000
DTEND;TZID=Europe/Helsinki:20250527T170000
DTSTAMP:20260420T064751
CREATED:20250527T072748Z
LAST-MODIFIED:20250527T072748Z
UID:20167-1748332800-1748365200@ekfechanion.eu
SUMMARY:2η Συνδιάσκεψη Εκπαιδευτικών
DESCRIPTION:
URL:https://ekfechanion.eu/event/2i-syndiaskepsi-ekpaideftikon/
LOCATION:Πνευματικό Κεντρο Χανίων
END:VEVENT
BEGIN:VEVENT
DTSTART;TZID=Europe/Helsinki:20251008T123000
DTEND;TZID=Europe/Helsinki:20251008T140000
DTSTAMP:20260420T064751
CREATED:20251017T063712Z
LAST-MODIFIED:20251017T064049Z
UID:20630-1759926600-1759932000@ekfechanion.eu
SUMMARY:1η Συνάντηση ΠΕ04
DESCRIPTION:Προγραμματισμός Δραστηριοτήτων ΕΚΦΕ:\n ESERO\n EOES\n Γιορτάζοντας\n Μαθητική ημερίδα για τις Φ.Ε\n MasterClasses\n Συναντήσεις
URL:https://ekfechanion.eu/event/1i-synantisi-pe04/
END:VEVENT
BEGIN:VEVENT
DTSTART;VALUE=DATE:20251018
DTEND;VALUE=DATE:20251020
DTSTAMP:20260420T064751
CREATED:20251017T064346Z
LAST-MODIFIED:20251017T064413Z
UID:20632-1760745600-1760918399@ekfechanion.eu
SUMMARY:Συνέδριο Συλλόγου Φυσικών Κρήτης
DESCRIPTION:Παρουσίαση με θέμα  “Οι Φυσικές Επιστήμες στο σχολείο: Η εικόνα από τη σκοπιά των\nπανελλήνιων διαγωνισμών πειραμάτων που διοργανώνει η ΠΑΝΕΚΦΕ”
URL:https://ekfechanion.eu/event/synedrio-syllogou-fysikon-kritis/
END:VEVENT
BEGIN:VEVENT
DTSTART;TZID=Europe/Helsinki:20251022T003000
DTEND;TZID=Europe/Helsinki:20251022T140000
DTSTAMP:20260420T064751
CREATED:20251017T064457Z
LAST-MODIFIED:20251017T064530Z
UID:20634-1761093000-1761141600@ekfechanion.eu
SUMMARY:2η Συνάντηση - ΠΕ04 Γυμνασίου
DESCRIPTION: Προτεινόμενες Εργαστηριακές Δραστηριότητες\n ΠΟΛΛΑΠΛΟ ΒΙΒΛΙΟ και Εργαστηριακές  Δραστηριότητες
URL:https://ekfechanion.eu/event/2i-synantisi-pe04-gymnasiou/
END:VEVENT
BEGIN:VEVENT
DTSTART;TZID=Europe/Helsinki:20251105T123000
DTEND;TZID=Europe/Helsinki:20251105T140000
DTSTAMP:20260420T064751
CREATED:20251017T064644Z
LAST-MODIFIED:20251017T065212Z
UID:20636-1762345800-1762351200@ekfechanion.eu
SUMMARY:3η Συνάντηση (ΠΕ04 Λυκείου)
DESCRIPTION:Εργαστηριακές διατάξεις (Φωτοηλεκτρικό\,\nKundt\, Φασματοσκόπιο\, Μικροσκόπιο\, Hoffman)\n Καταγραφές εργαστηρίων\n Προτεινόμενες εργ. Δραστηριότητες\n ΠΟΛΛΑΠΛΟ ΒΙΒΛΙΟ και Εργαστηριακές Δραστηριότητες
URL:https://ekfechanion.eu/event/3i-synantisi-pe04/
END:VEVENT
BEGIN:VEVENT
DTSTART;TZID=Europe/Helsinki:20251111T090000
DTEND;TZID=Europe/Helsinki:20251111T113000
DTSTAMP:20260420T064751
CREATED:20251030T080025Z
LAST-MODIFIED:20251030T080328Z
UID:20735-1762851600-1762860600@ekfechanion.eu
SUMMARY:Επίσκεψη ΕΠΑΛ
DESCRIPTION:2 Τμήματα \nΕνεργειακές μετατροπες \nΜακέτα 3D
URL:https://ekfechanion.eu/event/episkepsi-epal-4/
END:VEVENT
BEGIN:VEVENT
DTSTART;TZID=Europe/Helsinki:20251111T090000
DTEND;TZID=Europe/Helsinki:20251111T113000
DTSTAMP:20260420T064751
CREATED:20251030T083002Z
LAST-MODIFIED:20251030T075834Z
UID:20730-1762851600-1762860600@ekfechanion.eu
SUMMARY:Επισκεψη στο 2ο ΔΣ Κουνουπιδιανών
DESCRIPTION:2 Τμήματα \nΕνεργειακές μετατροπές \nκατασκευή μακέτας 3D
URL:https://ekfechanion.eu/event/episkepsi-sto-2o-ds-scholeio-kounoupidianon/
END:VEVENT
BEGIN:VEVENT
DTSTART;TZID=Europe/Helsinki:20251114T090000
DTEND;TZID=Europe/Helsinki:20251114T113000
DTSTAMP:20260420T064751
CREATED:20251107T070003Z
LAST-MODIFIED:20251119T083826Z
UID:20727-1763110800-1763119800@ekfechanion.eu
SUMMARY:Επίσκεψη ΕΠΑΛ
DESCRIPTION:2 Τμήματα: \nΕνεργειακές μετατροπές\, \nκατασκευή μακέτας 3D
URL:https://ekfechanion.eu/event/episkepsi-epal-3/
ORGANIZER;CN="%CE%95%CE%9A%CE%A6%CE%95 %CE%A7%CE%B1%CE%BD%CE%AF%CF%89%CE%BD":MAILTO:ekfechan@gmail.com
END:VEVENT
BEGIN:VEVENT
DTSTART;TZID=Europe/Helsinki:20251119T123000
DTEND;TZID=Europe/Helsinki:20251119T140000
DTSTAMP:20260420T064751
CREATED:20251017T064759Z
LAST-MODIFIED:20251017T064759Z
UID:20639-1763555400-1763560800@ekfechanion.eu
SUMMARY:4η Συνάντηση (ΠΕ04 Γυμνασίου)
DESCRIPTION:Αποτίμηση Εφαρμογής των εργαστηριακών\nδραστηριοτήτων στο σχολείο\n Παρουσιάσεις από εκπαιδευτικούς\n Νέες προτάσεις δραστηριοτήτων\n Καλές πρακτικές στην εργαστηριακή διδασκαλία
URL:https://ekfechanion.eu/event/4i-synantisi-pe04-gymnasiou/
END:VEVENT
BEGIN:VEVENT
DTSTART;TZID=Europe/Helsinki:20251126T123000
DTEND;TZID=Europe/Helsinki:20251126T140000
DTSTAMP:20260420T064751
CREATED:20251017T064925Z
LAST-MODIFIED:20251017T064925Z
UID:20641-1764160200-1764165600@ekfechanion.eu
SUMMARY:5η Συνάντηση (ΠΕ04 Λυκείου)
DESCRIPTION:Εργαστηριακές δραστηριότητες\n Καλές πρακτικές στην εργαστηριακή διδασκαλία\n Διαγωνισμός Πειραμάτων EOES
URL:https://ekfechanion.eu/event/5i-synantisi-pe04-lykeiou/
END:VEVENT
BEGIN:VEVENT
DTSTART;TZID=Europe/Helsinki:20251206T083000
DTEND;TZID=Europe/Helsinki:20251206T133000
DTSTAMP:20260420T064751
CREATED:20251017T065445Z
LAST-MODIFIED:20251017T065445Z
UID:20647-1765009800-1765027800@ekfechanion.eu
SUMMARY:Τοπικός Διαγωνισμός EOES
DESCRIPTION:Μαθητικός διαγωνιμός πειραμάτων για την Ολυμπιάδα πειραμάτων Φ.Ε.
URL:https://ekfechanion.eu/event/topikos-diagonismos-eoes/
END:VEVENT
END:VCALENDAR