BEGIN:VCALENDAR
VERSION:2.0
PRODID:-//ΕΚΦΕ Χανίων - ECPv6.15.20//NONSGML v1.0//EN
CALSCALE:GREGORIAN
METHOD:PUBLISH
X-ORIGINAL-URL:https://ekfechanion.eu
X-WR-CALDESC:Events for ΕΚΦΕ Χανίων
REFRESH-INTERVAL;VALUE=DURATION:PT1H
X-Robots-Tag:noindex
X-PUBLISHED-TTL:PT1H
BEGIN:VTIMEZONE
TZID:Europe/Helsinki
BEGIN:DAYLIGHT
TZOFFSETFROM:+0200
TZOFFSETTO:+0300
TZNAME:EEST
DTSTART:20230326T010000
END:DAYLIGHT
BEGIN:STANDARD
TZOFFSETFROM:+0300
TZOFFSETTO:+0200
TZNAME:EET
DTSTART:20231029T010000
END:STANDARD
BEGIN:DAYLIGHT
TZOFFSETFROM:+0200
TZOFFSETTO:+0300
TZNAME:EEST
DTSTART:20240331T010000
END:DAYLIGHT
BEGIN:STANDARD
TZOFFSETFROM:+0300
TZOFFSETTO:+0200
TZNAME:EET
DTSTART:20241027T010000
END:STANDARD
BEGIN:DAYLIGHT
TZOFFSETFROM:+0200
TZOFFSETTO:+0300
TZNAME:EEST
DTSTART:20250330T010000
END:DAYLIGHT
BEGIN:STANDARD
TZOFFSETFROM:+0300
TZOFFSETTO:+0200
TZNAME:EET
DTSTART:20251026T010000
END:STANDARD
END:VTIMEZONE
BEGIN:VEVENT
DTSTART;VALUE=DATE:20240403
DTEND;VALUE=DATE:20240404
DTSTAMP:20260422T120312
CREATED:20231113T071722Z
LAST-MODIFIED:20231113T073304Z
UID:14942-1712102400-1712188799@ekfechanion.eu
SUMMARY:Λύκειο Ιδιωτικών Εκπαιδευτηρίων Θεοδωρόπουλου
DESCRIPTION:Εκπαιδευτική επίσκεψη Α’ Λυκείου – Φυσική (Κινήσεις – Νόμοι του Νεύτωνα).
URL:https://ekfechanion.eu/event/%ce%bb%cf%8d%ce%ba%ce%b5%ce%b9%ce%bf-%ce%b9%ce%b4%ce%b9%cf%89%cf%84%ce%b9%ce%ba%cf%8e%ce%bd-%ce%b5%ce%ba%cf%80%ce%b1%ce%b9%ce%b4%ce%b5%cf%85%cf%84%ce%b7%cf%81%ce%af%cf%89%ce%bd-%ce%b8%ce%b5%ce%bf/
END:VEVENT
END:VCALENDAR