BEGIN:VCALENDAR
VERSION:2.0
PRODID:-//ΕΚΦΕ Χανίων - ECPv6.15.20//NONSGML v1.0//EN
CALSCALE:GREGORIAN
METHOD:PUBLISH
X-ORIGINAL-URL:https://ekfechanion.eu
X-WR-CALDESC:Events for ΕΚΦΕ Χανίων
REFRESH-INTERVAL;VALUE=DURATION:PT1H
X-Robots-Tag:noindex
X-PUBLISHED-TTL:PT1H
BEGIN:VTIMEZONE
TZID:Europe/Helsinki
BEGIN:DAYLIGHT
TZOFFSETFROM:+0200
TZOFFSETTO:+0300
TZNAME:EEST
DTSTART:20230326T010000
END:DAYLIGHT
BEGIN:STANDARD
TZOFFSETFROM:+0300
TZOFFSETTO:+0200
TZNAME:EET
DTSTART:20231029T010000
END:STANDARD
BEGIN:DAYLIGHT
TZOFFSETFROM:+0200
TZOFFSETTO:+0300
TZNAME:EEST
DTSTART:20240331T010000
END:DAYLIGHT
BEGIN:STANDARD
TZOFFSETFROM:+0300
TZOFFSETTO:+0200
TZNAME:EET
DTSTART:20241027T010000
END:STANDARD
BEGIN:DAYLIGHT
TZOFFSETFROM:+0200
TZOFFSETTO:+0300
TZNAME:EEST
DTSTART:20250330T010000
END:DAYLIGHT
BEGIN:STANDARD
TZOFFSETFROM:+0300
TZOFFSETTO:+0200
TZNAME:EET
DTSTART:20251026T010000
END:STANDARD
END:VTIMEZONE
BEGIN:VEVENT
DTSTART;VALUE=DATE:20240301
DTEND;VALUE=DATE:20240302
DTSTAMP:20260422T131534
CREATED:20240221T111914Z
LAST-MODIFIED:20240221T111914Z
UID:17503-1709251200-1709337599@ekfechanion.eu
SUMMARY:Επίσκεψη στο ΕΝΕΓΥΛ Χανίων
DESCRIPTION:Παρουσίαση εντυπωσιακών πειραμάτων Φυσικής και Χημείας
URL:https://ekfechanion.eu/event/episkepsi-sto-enegyl-chanion/
LOCATION:ΕΝΕΓΥΛ Χανίων
ORGANIZER;CN="%CE%95%CE%9A%CE%A6%CE%95 %CE%A7%CE%B1%CE%BD%CE%AF%CF%89%CE%BD":MAILTO:ekfechan@gmail.com
END:VEVENT
END:VCALENDAR